BEGIN:VCALENDAR
VERSION:2.0
PRODID:-//City of Miami Beach - ECPv6.13.2.1//NONSGML v1.0//EN
CALSCALE:GREGORIAN
METHOD:PUBLISH
X-WR-CALNAME:City of Miami Beach
X-ORIGINAL-URL:https://events.miamibeachfl.gov
X-WR-CALDESC:Events for City of Miami Beach
REFRESH-INTERVAL;VALUE=DURATION:PT1H
X-Robots-Tag:noindex
X-PUBLISHED-TTL:PT1H
BEGIN:VTIMEZONE
TZID:America/New_York
BEGIN:DAYLIGHT
TZOFFSETFROM:-0500
TZOFFSETTO:-0400
TZNAME:EDT
DTSTART:20260308T070000
END:DAYLIGHT
BEGIN:STANDARD
TZOFFSETFROM:-0400
TZOFFSETTO:-0500
TZNAME:EST
DTSTART:20261101T060000
END:STANDARD
END:VTIMEZONE
BEGIN:VEVENT
DTSTART;TZID=America/New_York:20260120T101500
DTEND;TZID=America/New_York:20260120T111500
DTSTAMP:20260419T153629
CREATED:20250701T171716Z
LAST-MODIFIED:20250701T171718Z
UID:10100634-1768904100-1768907700@events.miamibeachfl.gov
SUMMARY:Dance Fusion for Seniors (UN) - Tue
DESCRIPTION:Dance fusion is available every Tuesday and Friday free of charge to all Miami Beach seniors at the North Beach Senior Center located at 7251 Collins Avenue. \nRegistration required. For more information\, contact the UNIDAD Senior Center at 305.867.0051.
URL:https://events.miamibeachfl.gov/event/dance-fusion-for-seniors-un-tue-2/2026-01-20/
LOCATION:UNIDAD – 7251 Collins Avenue
CATEGORIES:Senior Programming
END:VEVENT
BEGIN:VEVENT
DTSTART;TZID=America/New_York:20260120T091500
DTEND;TZID=America/New_York:20260120T101500
DTSTAMP:20260419T153629
CREATED:20250701T171017Z
LAST-MODIFIED:20260113T215839Z
UID:10103084-1768900500-1768904100@events.miamibeachfl.gov
SUMMARY:Chair Yoga for Seniors (UN)
DESCRIPTION:Chair yoga is available every Tuesday and Thursday free of charge to all Miami Beach seniors at the North Beach Senior Center located at 7251 Collins Avenue. \nRegistration required. For more information\, contact the UNIDAD Senior Center at 305.867.0051.
URL:https://events.miamibeachfl.gov/event/chair-yoga-for-seniors-2/2026-01-20/
LOCATION:UNIDAD – 7251 Collins Avenue
CATEGORIES:Senior Programming
END:VEVENT
BEGIN:VEVENT
DTSTART;TZID=America/New_York:20260120T080000
DTEND;TZID=America/New_York:20260120T090000
DTSTAMP:20260419T153629
CREATED:20250701T170601Z
LAST-MODIFIED:20260113T215739Z
UID:10102980-1768896000-1768899600@events.miamibeachfl.gov
SUMMARY:Outdoor Yoga for Seniors (UN)
DESCRIPTION:Outdoor yoga is available every Tuesday and Thursday free of charge to all Miami Beach seniors on the second floor terrace of the North Beach Senior Center located at 7251 Collins Avenue. Temporarily relocating to North Shore Park Youth Center (501 72 Street) Dance Room. \nRegistration required. For more information\, contact the UNIDAD Senior Center at 305.867.0051.
URL:https://events.miamibeachfl.gov/event/outdoor-yoga-for-seniors-2/2026-01-20/
LOCATION:UNIDAD – 7251 Collins Avenue
CATEGORIES:Senior Programming
END:VEVENT
BEGIN:VEVENT
DTSTART;TZID=America/New_York:20260119T144500
DTEND;TZID=America/New_York:20260119T154500
DTSTAMP:20260419T153629
CREATED:20260114T170524Z
LAST-MODIFIED:20260114T170526Z
UID:10103342-1768833900-1768837500@events.miamibeachfl.gov
SUMMARY:English Classes for Seniors (UN)
DESCRIPTION:English class is available every Monday free of charge to all Miami Beach seniors on the second floor terrace of the North Beach Senior Center located at 7251 Collins Avenue. \nRegistration required. For more information\, contact the UNIDAD Senior Center at 305.867.0051.
URL:https://events.miamibeachfl.gov/event/english-classes-for-seniors-2-2/2026-01-19/
LOCATION:UNIDAD – 7251 Collins Avenue
CATEGORIES:Senior Programming
END:VEVENT
BEGIN:VEVENT
DTSTART;TZID=America/New_York:20260119T133000
DTEND;TZID=America/New_York:20260119T143000
DTSTAMP:20260419T153629
CREATED:20250701T165550Z
LAST-MODIFIED:20260113T213539Z
UID:10102874-1768829400-1768833000@events.miamibeachfl.gov
SUMMARY:Sound Therapy for Seniors (UN)
DESCRIPTION:Sound therapy yoga is available every Monday free of charge to all Miami Beach seniors at the North Beach Senior Center located at 7251 Collins Avenue. \nRegistration required. For more information\, contact the UNIDAD Senior Center at 305.867.0051.
URL:https://events.miamibeachfl.gov/event/sound-therapy-un-2/2026-01-19/
LOCATION:UNIDAD – 7251 Collins Avenue
CATEGORIES:Senior Programming
END:VEVENT
BEGIN:VEVENT
DTSTART;TZID=America/New_York:20260119T100500
DTEND;TZID=America/New_York:20260119T102000
DTSTAMP:20260419T153629
CREATED:20250701T165223Z
LAST-MODIFIED:20260113T213305Z
UID:10102668-1768817100-1768818000@events.miamibeachfl.gov
SUMMARY:Tai Chi Ruler for Seniors (UN)
DESCRIPTION:Tai Chi Ruler is available every Monday and Wednesday free of charge to all Miami Beach seniors on the second floor terrace of the North Beach Senior Center located at 7251 Collins Avenue. \nRegistration required. For more information\, contact the UNIDAD Senior Center at 305.867.0051.
URL:https://events.miamibeachfl.gov/event/tai-chi-ruler-for-seniors-2/2026-01-19/
LOCATION:UNIDAD – 7251 Collins Avenue
CATEGORIES:Senior Programming
END:VEVENT
BEGIN:VEVENT
DTSTART;TZID=America/New_York:20260119T090500
DTEND;TZID=America/New_York:20260119T100500
DTSTAMP:20260419T153629
CREATED:20250701T164716Z
LAST-MODIFIED:20260113T213114Z
UID:10102564-1768813500-1768817100@events.miamibeachfl.gov
SUMMARY:Tai Chi for Seniors (UN)
DESCRIPTION:Dance fusion is available every Monday and Wednesday free of charge to all Miami Beach seniors at the North Beach Senior Center located at 7251 Collins Avenue. \nRegistration required. For more information\, contact the UNIDAD Senior Center at 305.867.0051.
URL:https://events.miamibeachfl.gov/event/tai-chi-for-seniors-2/2026-01-19/
LOCATION:UNIDAD – 7251 Collins Avenue
CATEGORIES:Senior Programming
END:VEVENT
END:VCALENDAR