BEGIN:VCALENDAR
VERSION:2.0
PRODID:-//City of Miami Beach - ECPv6.13.2.1//NONSGML v1.0//EN
CALSCALE:GREGORIAN
METHOD:PUBLISH
X-WR-CALNAME:City of Miami Beach
X-ORIGINAL-URL:https://events.miamibeachfl.gov
X-WR-CALDESC:Events for City of Miami Beach
REFRESH-INTERVAL;VALUE=DURATION:PT1H
X-Robots-Tag:noindex
X-PUBLISHED-TTL:PT1H
BEGIN:VTIMEZONE
TZID:America/New_York
BEGIN:DAYLIGHT
TZOFFSETFROM:-0500
TZOFFSETTO:-0400
TZNAME:EDT
DTSTART:20260308T070000
END:DAYLIGHT
BEGIN:STANDARD
TZOFFSETFROM:-0400
TZOFFSETTO:-0500
TZNAME:EST
DTSTART:20261101T060000
END:STANDARD
END:VTIMEZONE
BEGIN:VEVENT
DTSTART;TZID=America/New_York:20260312T101500
DTEND;TZID=America/New_York:20260312T111500
DTSTAMP:20260419T140751
CREATED:20250701T172658Z
LAST-MODIFIED:20260114T171557Z
UID:10103507-1773310500-1773314100@events.miamibeachfl.gov
SUMMARY:Chair Aerobics for Seniors (UN)
DESCRIPTION:Chair Aerobics is available every Thursday free of charge to all Miami Beach seniors at the North Beach Senior Center located at 7251 Collins Avenue. \nRegistration required. For more information\, contact UNIDAD 305.867.0051.
URL:https://events.miamibeachfl.gov/event/chair-aerobics-for-seniors-north-beach-senior-center-2/2026-03-12/
LOCATION:UNIDAD – 7251 Collins Avenue
CATEGORIES:Senior Programming
END:VEVENT
BEGIN:VEVENT
DTSTART;TZID=America/New_York:20260312T091500
DTEND;TZID=America/New_York:20260312T101500
DTSTAMP:20260419T140751
CREATED:20250701T171017Z
LAST-MODIFIED:20260113T215839Z
UID:10103099-1773306900-1773310500@events.miamibeachfl.gov
SUMMARY:Chair Yoga for Seniors (UN)
DESCRIPTION:Chair yoga is available every Tuesday and Thursday free of charge to all Miami Beach seniors at the North Beach Senior Center located at 7251 Collins Avenue. \nRegistration required. For more information\, contact the UNIDAD Senior Center at 305.867.0051.
URL:https://events.miamibeachfl.gov/event/chair-yoga-for-seniors-2/2026-03-12/
LOCATION:UNIDAD – 7251 Collins Avenue
CATEGORIES:Senior Programming
END:VEVENT
BEGIN:VEVENT
DTSTART;TZID=America/New_York:20260312T080000
DTEND;TZID=America/New_York:20260312T090000
DTSTAMP:20260419T140751
CREATED:20250701T170601Z
LAST-MODIFIED:20260113T215739Z
UID:10102995-1773302400-1773306000@events.miamibeachfl.gov
SUMMARY:Outdoor Yoga for Seniors (UN)
DESCRIPTION:Outdoor yoga is available every Tuesday and Thursday free of charge to all Miami Beach seniors on the second floor terrace of the North Beach Senior Center located at 7251 Collins Avenue. Temporarily relocating to North Shore Park Youth Center (501 72 Street) Dance Room. \nRegistration required. For more information\, contact the UNIDAD Senior Center at 305.867.0051.
URL:https://events.miamibeachfl.gov/event/outdoor-yoga-for-seniors-2/2026-03-12/
LOCATION:UNIDAD – 7251 Collins Avenue
CATEGORIES:Senior Programming
END:VEVENT
BEGIN:VEVENT
DTSTART;TZID=America/New_York:20260311T143000
DTEND;TZID=America/New_York:20260311T153000
DTSTAMP:20260419T140751
CREATED:20260114T171345Z
LAST-MODIFIED:20260114T171347Z
UID:10103456-1773239400-1773243000@events.miamibeachfl.gov
SUMMARY:Dominoes for Seniors (UN)
DESCRIPTION:Dominoes is available every Wednesday and Friday free of charge to all Miami Beach seniors at the North Beach Senior Center located at 7251 Collins Avenue. \nRegistration required. For more information\, contact the UNIDAD Senior Center at 305.867.0051.
URL:https://events.miamibeachfl.gov/event/dominoes-for-seniors-un-2/2026-03-11/
LOCATION:UNIDAD – 7251 Collins Avenue
CATEGORIES:Senior Programming
END:VEVENT
BEGIN:VEVENT
DTSTART;TZID=America/New_York:20260311T133000
DTEND;TZID=America/New_York:20260311T143000
DTSTAMP:20260419T140751
CREATED:20250701T170429Z
LAST-MODIFIED:20260114T170917Z
UID:10103406-1773235800-1773239400@events.miamibeachfl.gov
SUMMARY:Qi-Gong for Seniors (UN)
DESCRIPTION:Qi-Gong is available every Wednesday free of charge to all Miami Beach seniors at the North Beach Senior Center located at 7251 Collins Avenue. \nRegistration required. For more information\, contact the UNIDAD Senior Center at 305.867.0051.
URL:https://events.miamibeachfl.gov/event/qi-gong-for-seniors-2/2026-03-11/
LOCATION:UNIDAD – 7251 Collins Avenue
CATEGORIES:Senior Programming
END:VEVENT
BEGIN:VEVENT
DTSTART;TZID=America/New_York:20260311T100500
DTEND;TZID=America/New_York:20260311T102000
DTSTAMP:20260419T140751
CREATED:20250701T165223Z
LAST-MODIFIED:20260113T213305Z
UID:10102683-1773223500-1773224400@events.miamibeachfl.gov
SUMMARY:Tai Chi Ruler for Seniors (UN)
DESCRIPTION:Tai Chi Ruler is available every Monday and Wednesday free of charge to all Miami Beach seniors on the second floor terrace of the North Beach Senior Center located at 7251 Collins Avenue. \nRegistration required. For more information\, contact the UNIDAD Senior Center at 305.867.0051.
URL:https://events.miamibeachfl.gov/event/tai-chi-ruler-for-seniors-2/2026-03-11/
LOCATION:UNIDAD – 7251 Collins Avenue
CATEGORIES:Senior Programming
END:VEVENT
BEGIN:VEVENT
DTSTART;TZID=America/New_York:20260311T090500
DTEND;TZID=America/New_York:20260311T100500
DTSTAMP:20260419T140751
CREATED:20250701T164716Z
LAST-MODIFIED:20260113T213114Z
UID:10102579-1773219900-1773223500@events.miamibeachfl.gov
SUMMARY:Tai Chi for Seniors (UN)
DESCRIPTION:Dance fusion is available every Monday and Wednesday free of charge to all Miami Beach seniors at the North Beach Senior Center located at 7251 Collins Avenue. \nRegistration required. For more information\, contact the UNIDAD Senior Center at 305.867.0051.
URL:https://events.miamibeachfl.gov/event/tai-chi-for-seniors-2/2026-03-11/
LOCATION:UNIDAD – 7251 Collins Avenue
CATEGORIES:Senior Programming
END:VEVENT
BEGIN:VEVENT
DTSTART;TZID=America/New_York:20260310T160000
DTEND;TZID=America/New_York:20260310T170000
DTSTAMP:20260419T140751
CREATED:20250701T173058Z
LAST-MODIFIED:20260113T220622Z
UID:10103298-1773158400-1773162000@events.miamibeachfl.gov
SUMMARY:Choir for Seniors (UN)
DESCRIPTION:Choir is available every Thursday free of charge to all Miami Beach seniors at the North Beach Senior Center located at 7251 Collins Avenue. \nRegistration required. For more information\, contact UNIDAD  at 305.867.0051.
URL:https://events.miamibeachfl.gov/event/choir-for-seniors-2/2026-03-10/
LOCATION:UNIDAD – 7251 Collins Avenue
CATEGORIES:Senior Programming
END:VEVENT
BEGIN:VEVENT
DTSTART;TZID=America/New_York:20260310T150000
DTEND;TZID=America/New_York:20260310T163000
DTSTAMP:20260419T140751
CREATED:20250701T171837Z
LAST-MODIFIED:20260113T220449Z
UID:10103246-1773154800-1773160200@events.miamibeachfl.gov
SUMMARY:Spanish Class for Seniors (UN)
DESCRIPTION:Spanish class is available every Tuesday free of charge to all Miami Beach seniors on the second floor terrace of the North Beach Senior Center located at 7251 Collins Avenue. \nRegistration required. For more information\, contact the UNIDAD Senior Center at 305.867.0051.
URL:https://events.miamibeachfl.gov/event/spanish-class-for-seniors-2/2026-03-10/
LOCATION:UNIDAD – 7251 Collins Avenue
CATEGORIES:Senior Programming
END:VEVENT
BEGIN:VEVENT
DTSTART;TZID=America/New_York:20260310T133000
DTEND;TZID=America/New_York:20260310T143000
DTSTAMP:20260419T140751
CREATED:20251030T175107Z
LAST-MODIFIED:20260113T220312Z
UID:10103193-1773149400-1773153000@events.miamibeachfl.gov
SUMMARY:Bingo for Seniors (UN)
DESCRIPTION:Bingo is available every Tuesday free of charge to all Miami Beach seniors at the North Beach Senior Center located at 7251 Collins Avenue. \nRegistration required. For more information\, contact the UNIDAD Senior Center at 305.867.0051.
URL:https://events.miamibeachfl.gov/event/bingo-for-seniors-un-2/2026-03-10/
LOCATION:UNIDAD – 7251 Collins Avenue
CATEGORIES:Senior Programming
END:VEVENT
BEGIN:VEVENT
DTSTART;TZID=America/New_York:20260310T133000
DTEND;TZID=America/New_York:20260310T143000
DTSTAMP:20260419T140751
CREATED:20250701T172403Z
LAST-MODIFIED:20251104T191426Z
UID:10100955-1773149400-1773153000@events.miamibeachfl.gov
SUMMARY:Bingo for Seniors (UN)
DESCRIPTION:Bingo is available every Tuesday free of charge to all Miami Beach seniors at the North Beach Senior Center located at 7251 Collins Avenue. \nRegistration required. For more information\, contact the UNIDAD Senior Center at 305.867.0051.
URL:https://events.miamibeachfl.gov/event/bingo-for-seniors-un/2026-03-10/
LOCATION:UNIDAD – 7251 Collins Avenue
CATEGORIES:Senior Programming
END:VEVENT
BEGIN:VEVENT
DTSTART;TZID=America/New_York:20260310T103000
DTEND;TZID=America/New_York:20260310T113000
DTSTAMP:20260419T140751
CREATED:20251124T181529Z
LAST-MODIFIED:20251124T182231Z
UID:10100833-1773138600-1773142200@events.miamibeachfl.gov
SUMMARY:Pole Walking for Seniors (UN)
DESCRIPTION:Pole Walking is available every Tuesday and Thursday free of charge to all Miami Beach seniors at the North Beach Senior Center located at 7251 Collins Avenue. \nRegistration required. For more information\, contact the UNIDAD Senior Center at 305.867.0051.
URL:https://events.miamibeachfl.gov/event/pole-walking-for-seniors-un-3/2026-03-10/
LOCATION:UNIDAD – 7251 Collins Avenue
CATEGORIES:Senior Programming
END:VEVENT
BEGIN:VEVENT
DTSTART;TZID=America/New_York:20260310T101500
DTEND;TZID=America/New_York:20260310T111500
DTSTAMP:20260419T140751
CREATED:20250701T171716Z
LAST-MODIFIED:20250701T171718Z
UID:10100641-1773137700-1773141300@events.miamibeachfl.gov
SUMMARY:Dance Fusion for Seniors (UN) - Tue
DESCRIPTION:Dance fusion is available every Tuesday and Friday free of charge to all Miami Beach seniors at the North Beach Senior Center located at 7251 Collins Avenue. \nRegistration required. For more information\, contact the UNIDAD Senior Center at 305.867.0051.
URL:https://events.miamibeachfl.gov/event/dance-fusion-for-seniors-un-tue-2/2026-03-10/
LOCATION:UNIDAD – 7251 Collins Avenue
CATEGORIES:Senior Programming
END:VEVENT
BEGIN:VEVENT
DTSTART;TZID=America/New_York:20260310T091500
DTEND;TZID=America/New_York:20260310T101500
DTSTAMP:20260419T140751
CREATED:20250701T171017Z
LAST-MODIFIED:20260113T215839Z
UID:10103098-1773134100-1773137700@events.miamibeachfl.gov
SUMMARY:Chair Yoga for Seniors (UN)
DESCRIPTION:Chair yoga is available every Tuesday and Thursday free of charge to all Miami Beach seniors at the North Beach Senior Center located at 7251 Collins Avenue. \nRegistration required. For more information\, contact the UNIDAD Senior Center at 305.867.0051.
URL:https://events.miamibeachfl.gov/event/chair-yoga-for-seniors-2/2026-03-10/
LOCATION:UNIDAD – 7251 Collins Avenue
CATEGORIES:Senior Programming
END:VEVENT
BEGIN:VEVENT
DTSTART;TZID=America/New_York:20260310T080000
DTEND;TZID=America/New_York:20260310T090000
DTSTAMP:20260419T140751
CREATED:20250701T170601Z
LAST-MODIFIED:20260113T215739Z
UID:10102994-1773129600-1773133200@events.miamibeachfl.gov
SUMMARY:Outdoor Yoga for Seniors (UN)
DESCRIPTION:Outdoor yoga is available every Tuesday and Thursday free of charge to all Miami Beach seniors on the second floor terrace of the North Beach Senior Center located at 7251 Collins Avenue. Temporarily relocating to North Shore Park Youth Center (501 72 Street) Dance Room. \nRegistration required. For more information\, contact the UNIDAD Senior Center at 305.867.0051.
URL:https://events.miamibeachfl.gov/event/outdoor-yoga-for-seniors-2/2026-03-10/
LOCATION:UNIDAD – 7251 Collins Avenue
CATEGORIES:Senior Programming
END:VEVENT
BEGIN:VEVENT
DTSTART;TZID=America/New_York:20260309T144500
DTEND;TZID=America/New_York:20260309T154500
DTSTAMP:20260419T140751
CREATED:20260114T170524Z
LAST-MODIFIED:20260114T170526Z
UID:10103368-1773067500-1773071100@events.miamibeachfl.gov
SUMMARY:English Classes for Seniors (UN)
DESCRIPTION:English class is available every Monday free of charge to all Miami Beach seniors on the second floor terrace of the North Beach Senior Center located at 7251 Collins Avenue. \nRegistration required. For more information\, contact the UNIDAD Senior Center at 305.867.0051.
URL:https://events.miamibeachfl.gov/event/english-classes-for-seniors-2-2/2026-03-09/
LOCATION:UNIDAD – 7251 Collins Avenue
CATEGORIES:Senior Programming
END:VEVENT
BEGIN:VEVENT
DTSTART;TZID=America/New_York:20260309T133000
DTEND;TZID=America/New_York:20260309T143000
DTSTAMP:20260419T140751
CREATED:20250701T165550Z
LAST-MODIFIED:20260113T213539Z
UID:10102881-1773063000-1773066600@events.miamibeachfl.gov
SUMMARY:Sound Therapy for Seniors (UN)
DESCRIPTION:Sound therapy yoga is available every Monday free of charge to all Miami Beach seniors at the North Beach Senior Center located at 7251 Collins Avenue. \nRegistration required. For more information\, contact the UNIDAD Senior Center at 305.867.0051.
URL:https://events.miamibeachfl.gov/event/sound-therapy-un-2/2026-03-09/
LOCATION:UNIDAD – 7251 Collins Avenue
CATEGORIES:Senior Programming
END:VEVENT
BEGIN:VEVENT
DTSTART;TZID=America/New_York:20260309T100500
DTEND;TZID=America/New_York:20260309T102000
DTSTAMP:20260419T140751
CREATED:20250701T165223Z
LAST-MODIFIED:20260113T213305Z
UID:10102682-1773050700-1773051600@events.miamibeachfl.gov
SUMMARY:Tai Chi Ruler for Seniors (UN)
DESCRIPTION:Tai Chi Ruler is available every Monday and Wednesday free of charge to all Miami Beach seniors on the second floor terrace of the North Beach Senior Center located at 7251 Collins Avenue. \nRegistration required. For more information\, contact the UNIDAD Senior Center at 305.867.0051.
URL:https://events.miamibeachfl.gov/event/tai-chi-ruler-for-seniors-2/2026-03-09/
LOCATION:UNIDAD – 7251 Collins Avenue
CATEGORIES:Senior Programming
END:VEVENT
BEGIN:VEVENT
DTSTART;TZID=America/New_York:20260309T090500
DTEND;TZID=America/New_York:20260309T100500
DTSTAMP:20260419T140751
CREATED:20250701T164716Z
LAST-MODIFIED:20260113T213114Z
UID:10102578-1773047100-1773050700@events.miamibeachfl.gov
SUMMARY:Tai Chi for Seniors (UN)
DESCRIPTION:Dance fusion is available every Monday and Wednesday free of charge to all Miami Beach seniors at the North Beach Senior Center located at 7251 Collins Avenue. \nRegistration required. For more information\, contact the UNIDAD Senior Center at 305.867.0051.
URL:https://events.miamibeachfl.gov/event/tai-chi-for-seniors-2/2026-03-09/
LOCATION:UNIDAD – 7251 Collins Avenue
CATEGORIES:Senior Programming
END:VEVENT
BEGIN:VEVENT
DTSTART;TZID=America/New_York:20260306T143000
DTEND;TZID=America/New_York:20260306T153000
DTSTAMP:20260419T140751
CREATED:20260114T171345Z
LAST-MODIFIED:20260114T171347Z
UID:10102095-1772807400-1772811000@events.miamibeachfl.gov
SUMMARY:Dominoes for Seniors (UN)
DESCRIPTION:Dominoes is available every Wednesday and Friday free of charge to all Miami Beach seniors at the North Beach Senior Center located at 7251 Collins Avenue. \nRegistration required. For more information\, contact the UNIDAD Senior Center at 305.867.0051.
URL:https://events.miamibeachfl.gov/event/dominoes-for-seniors-un-2/2026-03-06/
LOCATION:UNIDAD – 7251 Collins Avenue
CATEGORIES:Senior Programming
END:VEVENT
BEGIN:VEVENT
DTSTART;TZID=America/New_York:20260306T133000
DTEND;TZID=America/New_York:20260306T143000
DTSTAMP:20260419T140751
CREATED:20250701T173303Z
LAST-MODIFIED:20251231T172432Z
UID:10102043-1772803800-1772807400@events.miamibeachfl.gov
SUMMARY:Flamenco for Seniors (UN)
DESCRIPTION:Flamenco is available every Friday free of charge to all Miami Beach seniors at the North Beach Senior Center located at 7251 Collins Avenue. \nRegistration required. For more information\, contact UNIDAD Senior Center at 305.867.0051.
URL:https://events.miamibeachfl.gov/event/flamenco-for-seniors-2/2026-03-06/
LOCATION:UNIDAD – 7251 Collins Avenue
CATEGORIES:Senior Programming
END:VEVENT
BEGIN:VEVENT
DTSTART;TZID=America/New_York:20260306T100000
DTEND;TZID=America/New_York:20260306T120000
DTSTAMP:20260419T140751
CREATED:20250701T165910Z
LAST-MODIFIED:20251231T172241Z
UID:10101991-1772791200-1772798400@events.miamibeachfl.gov
SUMMARY:Art Class for Seniors (UN) – Fri
DESCRIPTION:Art Class is available every Monday and Friday free of charge to all Miami Beach seniors at the North Beach Senior Center located at 7251 Collins Avenue. \nRegistration required. For more information\, contact the UNIDAD Senior Center at 305.867.0051.
URL:https://events.miamibeachfl.gov/event/art-class-for-seniors-fri-2/2026-03-06/
LOCATION:UNIDAD – 7251 Collins Avenue
CATEGORIES:Senior Programming
END:VEVENT
BEGIN:VEVENT
DTSTART;TZID=America/New_York:20260306T091500
DTEND;TZID=America/New_York:20260306T101500
DTSTAMP:20260419T140751
CREATED:20250701T171617Z
LAST-MODIFIED:20250701T171617Z
UID:10100718-1772788500-1772792100@events.miamibeachfl.gov
SUMMARY:Dance Fusion for Seniors (UN) - Fri
DESCRIPTION:Dance fusion is available every Monday and Friday free of charge to all Miami Beach seniors at the North Beach Senior Center located at 7251 Collins Avenue. \nRegistration required. For more information\, contact the UNIDAD Senior Center at 305.867.0051.
URL:https://events.miamibeachfl.gov/event/dance-fusion-for-seniors-un-fri/2026-03-06/
LOCATION:UNIDAD – 7251 Collins Avenue
CATEGORIES:Senior Programming
END:VEVENT
BEGIN:VEVENT
DTSTART;TZID=America/New_York:20260305T103000
DTEND;TZID=America/New_York:20260305T113000
DTSTAMP:20260419T140751
CREATED:20251124T181529Z
LAST-MODIFIED:20251124T182231Z
UID:10100832-1772706600-1772710200@events.miamibeachfl.gov
SUMMARY:Pole Walking for Seniors (UN)
DESCRIPTION:Pole Walking is available every Tuesday and Thursday free of charge to all Miami Beach seniors at the North Beach Senior Center located at 7251 Collins Avenue. \nRegistration required. For more information\, contact the UNIDAD Senior Center at 305.867.0051.
URL:https://events.miamibeachfl.gov/event/pole-walking-for-seniors-un-3/2026-03-05/
LOCATION:UNIDAD – 7251 Collins Avenue
CATEGORIES:Senior Programming
END:VEVENT
BEGIN:VEVENT
DTSTART;TZID=America/New_York:20260305T101500
DTEND;TZID=America/New_York:20260305T111500
DTSTAMP:20260419T140751
CREATED:20250701T172658Z
LAST-MODIFIED:20260114T171557Z
UID:10103506-1772705700-1772709300@events.miamibeachfl.gov
SUMMARY:Chair Aerobics for Seniors (UN)
DESCRIPTION:Chair Aerobics is available every Thursday free of charge to all Miami Beach seniors at the North Beach Senior Center located at 7251 Collins Avenue. \nRegistration required. For more information\, contact UNIDAD 305.867.0051.
URL:https://events.miamibeachfl.gov/event/chair-aerobics-for-seniors-north-beach-senior-center-2/2026-03-05/
LOCATION:UNIDAD – 7251 Collins Avenue
CATEGORIES:Senior Programming
END:VEVENT
BEGIN:VEVENT
DTSTART;TZID=America/New_York:20260305T091500
DTEND;TZID=America/New_York:20260305T101500
DTSTAMP:20260419T140751
CREATED:20250701T171017Z
LAST-MODIFIED:20260113T215839Z
UID:10103097-1772702100-1772705700@events.miamibeachfl.gov
SUMMARY:Chair Yoga for Seniors (UN)
DESCRIPTION:Chair yoga is available every Tuesday and Thursday free of charge to all Miami Beach seniors at the North Beach Senior Center located at 7251 Collins Avenue. \nRegistration required. For more information\, contact the UNIDAD Senior Center at 305.867.0051.
URL:https://events.miamibeachfl.gov/event/chair-yoga-for-seniors-2/2026-03-05/
LOCATION:UNIDAD – 7251 Collins Avenue
CATEGORIES:Senior Programming
END:VEVENT
BEGIN:VEVENT
DTSTART;TZID=America/New_York:20260305T080000
DTEND;TZID=America/New_York:20260305T090000
DTSTAMP:20260419T140751
CREATED:20250701T170601Z
LAST-MODIFIED:20260113T215739Z
UID:10102993-1772697600-1772701200@events.miamibeachfl.gov
SUMMARY:Outdoor Yoga for Seniors (UN)
DESCRIPTION:Outdoor yoga is available every Tuesday and Thursday free of charge to all Miami Beach seniors on the second floor terrace of the North Beach Senior Center located at 7251 Collins Avenue. Temporarily relocating to North Shore Park Youth Center (501 72 Street) Dance Room. \nRegistration required. For more information\, contact the UNIDAD Senior Center at 305.867.0051.
URL:https://events.miamibeachfl.gov/event/outdoor-yoga-for-seniors-2/2026-03-05/
LOCATION:UNIDAD – 7251 Collins Avenue
CATEGORIES:Senior Programming
END:VEVENT
BEGIN:VEVENT
DTSTART;TZID=America/New_York:20260304T143000
DTEND;TZID=America/New_York:20260304T153000
DTSTAMP:20260419T140751
CREATED:20260114T171345Z
LAST-MODIFIED:20260114T171347Z
UID:10103455-1772634600-1772638200@events.miamibeachfl.gov
SUMMARY:Dominoes for Seniors (UN)
DESCRIPTION:Dominoes is available every Wednesday and Friday free of charge to all Miami Beach seniors at the North Beach Senior Center located at 7251 Collins Avenue. \nRegistration required. For more information\, contact the UNIDAD Senior Center at 305.867.0051.
URL:https://events.miamibeachfl.gov/event/dominoes-for-seniors-un-2/2026-03-04/
LOCATION:UNIDAD – 7251 Collins Avenue
CATEGORIES:Senior Programming
END:VEVENT
BEGIN:VEVENT
DTSTART;TZID=America/New_York:20260304T133000
DTEND;TZID=America/New_York:20260304T143000
DTSTAMP:20260419T140751
CREATED:20250701T170429Z
LAST-MODIFIED:20260114T170917Z
UID:10103405-1772631000-1772634600@events.miamibeachfl.gov
SUMMARY:Qi-Gong for Seniors (UN)
DESCRIPTION:Qi-Gong is available every Wednesday free of charge to all Miami Beach seniors at the North Beach Senior Center located at 7251 Collins Avenue. \nRegistration required. For more information\, contact the UNIDAD Senior Center at 305.867.0051.
URL:https://events.miamibeachfl.gov/event/qi-gong-for-seniors-2/2026-03-04/
LOCATION:UNIDAD – 7251 Collins Avenue
CATEGORIES:Senior Programming
END:VEVENT
BEGIN:VEVENT
DTSTART;TZID=America/New_York:20260304T100500
DTEND;TZID=America/New_York:20260304T102000
DTSTAMP:20260419T140751
CREATED:20250701T165223Z
LAST-MODIFIED:20260113T213305Z
UID:10102681-1772618700-1772619600@events.miamibeachfl.gov
SUMMARY:Tai Chi Ruler for Seniors (UN)
DESCRIPTION:Tai Chi Ruler is available every Monday and Wednesday free of charge to all Miami Beach seniors on the second floor terrace of the North Beach Senior Center located at 7251 Collins Avenue. \nRegistration required. For more information\, contact the UNIDAD Senior Center at 305.867.0051.
URL:https://events.miamibeachfl.gov/event/tai-chi-ruler-for-seniors-2/2026-03-04/
LOCATION:UNIDAD – 7251 Collins Avenue
CATEGORIES:Senior Programming
END:VEVENT
END:VCALENDAR