BEGIN:VCALENDAR
VERSION:2.0
PRODID:-//City of Miami Beach - ECPv6.13.2.1//NONSGML v1.0//EN
CALSCALE:GREGORIAN
METHOD:PUBLISH
X-ORIGINAL-URL:https://events.miamibeachfl.gov/pt
X-WR-CALDESC:Eventos para City of Miami Beach
REFRESH-INTERVAL;VALUE=DURATION:PT1H
X-Robots-Tag:noindex
X-PUBLISHED-TTL:PT1H
BEGIN:VTIMEZONE
TZID:America/New_York
BEGIN:DAYLIGHT
TZOFFSETFROM:-0500
TZOFFSETTO:-0400
TZNAME:EDT
DTSTART:20260308T070000
END:DAYLIGHT
BEGIN:STANDARD
TZOFFSETFROM:-0400
TZOFFSETTO:-0500
TZNAME:EST
DTSTART:20261101T060000
END:STANDARD
END:VTIMEZONE
BEGIN:VEVENT
DTSTART;TZID=America/New_York:20260429T200000
DTEND;TZID=America/New_York:20260429T220000
DTSTAMP:20260425T064548
CREATED:20250908T190218Z
LAST-MODIFIED:20250922T205036Z
UID:10101460-1777492800-1777500000@events.miamibeachfl.gov
SUMMARY:Shrek the Third
DESCRIPTION:Join us as we highlight some of our favorite movies this season! The Cinema Series at SoundScape Park is held each Wednesday\, October – May\, beginning at 8 PM. Free to the public. \nShrek the Third- When the King of Far Far Away dies\, Shrek sets out to find the rightful heir\, while Prince Charming tries to seize the kingdom. \n\nDirectors\nChris Miller \n\n\nProduction year\n2007 \n\n\nRating\nPG \nRuntime\n92 minutes
URL:https://events.miamibeachfl.gov/pt/event/shrek-the-third/
LOCATION:SoundScape Park\, 400 17th Street\, Miami Beach\, FL\, 33139\, United States
CATEGORIES:Arts & Culture
ATTACH;FMTTYPE=image/jpeg:https://events.miamibeachfl.gov/wp-content/uploads/2025/09/Screenshot_8-9-2025_15036_www.swank_.com_.jpeg
GEO:25.7915624;-80.1325651
X-APPLE-STRUCTURED-LOCATION;VALUE=URI;X-ADDRESS=SoundScape Park 400 17th Street Miami Beach FL 33139 United States;X-APPLE-RADIUS=500;X-TITLE=400 17th Street:geo:-80.1325651,25.7915624
END:VEVENT
BEGIN:VEVENT
DTSTART;TZID=America/New_York:20260506T200000
DTEND;TZID=America/New_York:20260506T220000
DTSTAMP:20260425T064548
CREATED:20250909T181217Z
LAST-MODIFIED:20260409T125946Z
UID:10101475-1778097600-1778104800@events.miamibeachfl.gov
SUMMARY:An American Tail: Fievel Goes West
DESCRIPTION:Join us as we highlight some of our favorite movies this season! The Cinema Series at SoundScape Park is held each Wednesday\, October – May\, beginning at 8 PM. Free to the public. \nA devious cat convinces Fievel and his family to leave New York City for a frontier town but when Fievel discovers the cats real motives\, he tries to warn the other mice. \n\n\nDirectors – Simon Wells \nProduction Year – 1991 \nRating – G \nRuntime – 75 minutes
URL:https://events.miamibeachfl.gov/pt/event/an-american-tail/
LOCATION:SoundScape Park\, 400 17th Street\, Miami Beach\, FL\, 33139\, United States
CATEGORIES:Arts & Culture
ATTACH;FMTTYPE=image/jpeg:https://events.miamibeachfl.gov/wp-content/uploads/2025/09/Screenshot_7-4-2026_92419_www.swank_.com_.jpeg
GEO:25.7915624;-80.1325651
X-APPLE-STRUCTURED-LOCATION;VALUE=URI;X-ADDRESS=SoundScape Park 400 17th Street Miami Beach FL 33139 United States;X-APPLE-RADIUS=500;X-TITLE=400 17th Street:geo:-80.1325651,25.7915624
END:VEVENT
BEGIN:VEVENT
DTSTART;TZID=America/New_York:20260513T200000
DTEND;TZID=America/New_York:20260513T220000
DTSTAMP:20260425T064548
CREATED:20250909T181435Z
LAST-MODIFIED:20260409T130033Z
UID:10101476-1778702400-1778709600@events.miamibeachfl.gov
SUMMARY:Hamilton
DESCRIPTION:Join us as we highlight some of our favorite movies this season! The Cinema Series at SoundScape Park is held each Wednesday\, October – May\, beginning at 8 PM. Free to the public. \nPresenting the tale of American founding father Alexander Hamilton\, this filmed version of the original Broadway smash hit is the story of America then\, told by America now. \n\n\n\n\n\n\nDirectors – Thomas Kail \nProduction Year – 2020 \n\n\nRating – PG-13 \nRuntime – 160 minutes
URL:https://events.miamibeachfl.gov/pt/event/hamilton/
LOCATION:SoundScape Park\, 400 17th Street\, Miami Beach\, FL\, 33139\, United States
CATEGORIES:Arts & Culture
ATTACH;FMTTYPE=image/jpeg:https://events.miamibeachfl.gov/wp-content/uploads/2025/09/Screenshot_7-4-2026_9283_www.swank_.com_.jpeg
GEO:25.7915624;-80.1325651
X-APPLE-STRUCTURED-LOCATION;VALUE=URI;X-ADDRESS=SoundScape Park 400 17th Street Miami Beach FL 33139 United States;X-APPLE-RADIUS=500;X-TITLE=400 17th Street:geo:-80.1325651,25.7915624
END:VEVENT
BEGIN:VEVENT
DTSTART;TZID=America/New_York:20260520T200000
DTEND;TZID=America/New_York:20260520T220000
DTSTAMP:20260425T064548
CREATED:20250909T181618Z
LAST-MODIFIED:20260409T130121Z
UID:10101477-1779307200-1779314400@events.miamibeachfl.gov
SUMMARY:Top Gun: Maverick
DESCRIPTION:Join us as we highlight some of our favorite movies this season! The Cinema Series at SoundScape Park is held each Wednesday\, October – May\, beginning at 8 PM. Free to the public. \nAfter more than thirty years of service as one of the Navy’s top aviators\, Pete “Maverick” Mitchell is where he belongs\, pushing the envelope as a courageous test pilot and dodging the advancement in rank that would ground him. When he finds himself training a detachment of Top Gun graduates for a specialized mission\, Maverick encounters Lt. Bradley Bradshaw\, call sign: “Rooster\,” the son of Maverick’s late friend and Radar Intercept Officer Lt. Nick Bradshaw\, aka “Goose.” \n\nDirectors – Joseph Kosinski \nProduction Year – 2022 \n\n\nRating – PG-13 \nRuntime – 131 minutes
URL:https://events.miamibeachfl.gov/pt/event/topgunmaverick/
LOCATION:SoundScape Park\, 400 17th Street\, Miami Beach\, FL\, 33139\, United States
CATEGORIES:Arts & Culture
ATTACH;FMTTYPE=image/jpeg:https://events.miamibeachfl.gov/wp-content/uploads/2025/09/Screenshot_7-4-2026_93052_www.swank_.com_.jpeg
GEO:25.7915624;-80.1325651
X-APPLE-STRUCTURED-LOCATION;VALUE=URI;X-ADDRESS=SoundScape Park 400 17th Street Miami Beach FL 33139 United States;X-APPLE-RADIUS=500;X-TITLE=400 17th Street:geo:-80.1325651,25.7915624
END:VEVENT
BEGIN:VEVENT
DTSTART;TZID=America/New_York:20260527T200000
DTEND;TZID=America/New_York:20260527T220000
DTSTAMP:20260425T064548
CREATED:20250908T194756Z
LAST-MODIFIED:20250930T163447Z
UID:10101462-1779912000-1779919200@events.miamibeachfl.gov
SUMMARY:Shrek Forever After
DESCRIPTION:Join us as we highlight some of our favorite movies this season! The Cinema Series at SoundScape Park is held each Wednesday\, October – May\, beginning at 8 PM. Free to the public. \nShrek Forever After- In the fourth installment of the animated franchise\, Shrek must win back his wife and save his friends after he’s catapulted into an alternate version of Far Far Away where ogres are hunted and Rumpelstiltskin rules the land. \n\nDirectors\nMike Mitchell \n\n\nProduction year\n2010 \n\n\nRating\nPG \nRuntime\n93 minutes
URL:https://events.miamibeachfl.gov/pt/event/shrek-forever-after/
LOCATION:SoundScape Park\, 400 17th Street\, Miami Beach\, FL\, 33139\, United States
CATEGORIES:Arts & Culture
ATTACH;FMTTYPE=image/jpeg:https://events.miamibeachfl.gov/wp-content/uploads/2025/09/Screenshot_8-9-2025_154558_www.swank_.com_.jpeg
GEO:25.7915624;-80.1325651
X-APPLE-STRUCTURED-LOCATION;VALUE=URI;X-ADDRESS=SoundScape Park 400 17th Street Miami Beach FL 33139 United States;X-APPLE-RADIUS=500;X-TITLE=400 17th Street:geo:-80.1325651,25.7915624
END:VEVENT
END:VCALENDAR