BEGIN:VCALENDAR
VERSION:2.0
PRODID:-//City of Miami Beach - ECPv6.13.2.1//NONSGML v1.0//EN
CALSCALE:GREGORIAN
METHOD:PUBLISH
X-ORIGINAL-URL:https://events.miamibeachfl.gov/pt
X-WR-CALDESC:Eventos para City of Miami Beach
REFRESH-INTERVAL;VALUE=DURATION:PT1H
X-Robots-Tag:noindex
X-PUBLISHED-TTL:PT1H
BEGIN:VTIMEZONE
TZID:America/New_York
BEGIN:DAYLIGHT
TZOFFSETFROM:-0500
TZOFFSETTO:-0400
TZNAME:EDT
DTSTART:20270314T070000
END:DAYLIGHT
BEGIN:STANDARD
TZOFFSETFROM:-0400
TZOFFSETTO:-0500
TZNAME:EST
DTSTART:20271107T060000
END:STANDARD
END:VTIMEZONE
BEGIN:VEVENT
DTSTART;TZID=America/New_York:20270517T120000
DTEND;TZID=America/New_York:20270517T130000
DTSTAMP:20260422T185303
CREATED:20260114T173921Z
LAST-MODIFIED:20260114T173921Z
UID:10104006-1810555200-1810558800@events.miamibeachfl.gov
SUMMARY:Water Aerobics (FL)
DESCRIPTION:Water Aerobics is available every Monday and Wednesday at the Flamingo Park Pool. Call 305.673.7779 for more information.
URL:https://events.miamibeachfl.gov/pt/event/water-aerobics-fl/2027-05-17/
END:VEVENT
END:VCALENDAR