BEGIN:VCALENDAR
VERSION:2.0
PRODID:-//City of Miami Beach - ECPv6.13.2.1//NONSGML v1.0//EN
CALSCALE:GREGORIAN
METHOD:PUBLISH
X-WR-CALNAME:City of Miami Beach
X-ORIGINAL-URL:https://events.miamibeachfl.gov
X-WR-CALDESC:Events for City of Miami Beach
REFRESH-INTERVAL;VALUE=DURATION:PT1H
X-Robots-Tag:noindex
X-PUBLISHED-TTL:PT1H
BEGIN:VTIMEZONE
TZID:America/New_York
BEGIN:DAYLIGHT
TZOFFSETFROM:-0500
TZOFFSETTO:-0400
TZNAME:EDT
DTSTART:20260308T070000
END:DAYLIGHT
BEGIN:STANDARD
TZOFFSETFROM:-0400
TZOFFSETTO:-0500
TZNAME:EST
DTSTART:20261101T060000
END:STANDARD
END:VTIMEZONE
BEGIN:VEVENT
DTSTART;TZID=America/New_York:20260426T140000
DTEND;TZID=America/New_York:20260426T160000
DTSTAMP:20260424T190121
CREATED:20260424T134554Z
LAST-MODIFIED:20260424T134554Z
UID:10105034-1777212000-1777219200@events.miamibeachfl.gov
SUMMARY:Earth Day Delight: A Gnome & Fairy Garden Celebration
DESCRIPTION:A garden gathering inspired by connection and the beauty of our planet. \n\n\n\n\nSomething magical is stirring at the Garden… \nIn honor of Earth Month\, we invite you to celebrate —an enchanting experience inspired by gnomes\, fairies\, and the quiet wonder of our planet and home: Earth. \nWander into a world where imagination meets nature. Expect charm\, creativity\, and a touch of woodland mischief as we welcome the season in true Garden style. \nDetails are unearthing soon—but trust us\, you won’t want to miss this afternoon of crafts and fun!
URL:https://events.miamibeachfl.gov/event/earth-day-delight-a-gnome-fairy-garden-celebration/
LOCATION:Miami Beach Botanical Garden\, 2000 Convention Center Drive\, Miami Beach\, 33139\, United States
CATEGORIES:Arts & Culture
ATTACH;FMTTYPE=image/jpeg:https://events.miamibeachfl.gov/wp-content/uploads/2026/04/Earth-Day-Delight-GF-1.jpg
GEO:25.7956364;-80.1354799
X-APPLE-STRUCTURED-LOCATION;VALUE=URI;X-ADDRESS=Miami Beach Botanical Garden 2000 Convention Center Drive Miami Beach 33139 United States;X-APPLE-RADIUS=500;X-TITLE=2000 Convention Center Drive:geo:-80.1354799,25.7956364
END:VEVENT
END:VCALENDAR