BEGIN:VCALENDAR
VERSION:2.0
PRODID:-//City of Miami Beach - ECPv6.13.2.1//NONSGML v1.0//EN
CALSCALE:GREGORIAN
METHOD:PUBLISH
X-WR-CALNAME:City of Miami Beach
X-ORIGINAL-URL:https://events.miamibeachfl.gov/ht
X-WR-CALDESC:Events for City of Miami Beach
REFRESH-INTERVAL;VALUE=DURATION:PT1H
X-Robots-Tag:noindex
X-PUBLISHED-TTL:PT1H
BEGIN:VTIMEZONE
TZID:America/New_York
BEGIN:DAYLIGHT
TZOFFSETFROM:-0500
TZOFFSETTO:-0400
TZNAME:EDT
DTSTART:20260308T070000
END:DAYLIGHT
BEGIN:STANDARD
TZOFFSETFROM:-0400
TZOFFSETTO:-0500
TZNAME:EST
DTSTART:20261101T060000
END:STANDARD
END:VTIMEZONE
BEGIN:VEVENT
DTSTART;TZID=America/New_York:20260422T143000
DTEND;TZID=America/New_York:20260422T153000
DTSTAMP:20260421T091933
CREATED:20260114T171345Z
LAST-MODIFIED:20260114T171347Z
UID:10103462-1776868200-1776871800@events.miamibeachfl.gov
SUMMARY:Dominoes for Seniors (UN)
DESCRIPTION:Dominoes is available every Wednesday and Friday free of charge to all Miami Beach seniors at the North Beach Senior Center located at 7251 Collins Avenue. \nRegistration required. For more information\, contact the UNIDAD Senior Center at 305.867.0051.
URL:https://events.miamibeachfl.gov/ht/event/dominoes-for-seniors-un-2/2026-04-22/
LOCATION:UNIDAD – 7251 Collins Avenue
CATEGORIES:Senior Programming
END:VEVENT
BEGIN:VEVENT
DTSTART;TZID=America/New_York:20260424T143000
DTEND;TZID=America/New_York:20260424T153000
DTSTAMP:20260421T091933
CREATED:20260114T171345Z
LAST-MODIFIED:20260114T171347Z
UID:10102102-1777041000-1777044600@events.miamibeachfl.gov
SUMMARY:Dominoes for Seniors (UN)
DESCRIPTION:Dominoes is available every Wednesday and Friday free of charge to all Miami Beach seniors at the North Beach Senior Center located at 7251 Collins Avenue. \nRegistration required. For more information\, contact the UNIDAD Senior Center at 305.867.0051.
URL:https://events.miamibeachfl.gov/ht/event/dominoes-for-seniors-un-2/2026-04-24/
LOCATION:UNIDAD – 7251 Collins Avenue
CATEGORIES:Senior Programming
END:VEVENT
BEGIN:VEVENT
DTSTART;TZID=America/New_York:20260429T143000
DTEND;TZID=America/New_York:20260429T153000
DTSTAMP:20260421T091933
CREATED:20260114T171345Z
LAST-MODIFIED:20260114T171347Z
UID:10103463-1777473000-1777476600@events.miamibeachfl.gov
SUMMARY:Dominoes for Seniors (UN)
DESCRIPTION:Dominoes is available every Wednesday and Friday free of charge to all Miami Beach seniors at the North Beach Senior Center located at 7251 Collins Avenue. \nRegistration required. For more information\, contact the UNIDAD Senior Center at 305.867.0051.
URL:https://events.miamibeachfl.gov/ht/event/dominoes-for-seniors-un-2/2026-04-29/
LOCATION:UNIDAD – 7251 Collins Avenue
CATEGORIES:Senior Programming
END:VEVENT
BEGIN:VEVENT
DTSTART;TZID=America/New_York:20260501T143000
DTEND;TZID=America/New_York:20260501T153000
DTSTAMP:20260421T091933
CREATED:20260114T171345Z
LAST-MODIFIED:20260114T171347Z
UID:10102103-1777645800-1777649400@events.miamibeachfl.gov
SUMMARY:Dominoes for Seniors (UN)
DESCRIPTION:Dominoes is available every Wednesday and Friday free of charge to all Miami Beach seniors at the North Beach Senior Center located at 7251 Collins Avenue. \nRegistration required. For more information\, contact the UNIDAD Senior Center at 305.867.0051.
URL:https://events.miamibeachfl.gov/ht/event/dominoes-for-seniors-un-2/2026-05-01/
LOCATION:UNIDAD – 7251 Collins Avenue
CATEGORIES:Senior Programming
END:VEVENT
BEGIN:VEVENT
DTSTART;TZID=America/New_York:20260506T143000
DTEND;TZID=America/New_York:20260506T153000
DTSTAMP:20260421T091933
CREATED:20260114T171345Z
LAST-MODIFIED:20260114T171347Z
UID:10103464-1778077800-1778081400@events.miamibeachfl.gov
SUMMARY:Dominoes for Seniors (UN)
DESCRIPTION:Dominoes is available every Wednesday and Friday free of charge to all Miami Beach seniors at the North Beach Senior Center located at 7251 Collins Avenue. \nRegistration required. For more information\, contact the UNIDAD Senior Center at 305.867.0051.
URL:https://events.miamibeachfl.gov/ht/event/dominoes-for-seniors-un-2/2026-05-06/
LOCATION:UNIDAD – 7251 Collins Avenue
CATEGORIES:Senior Programming
END:VEVENT
BEGIN:VEVENT
DTSTART;TZID=America/New_York:20260508T143000
DTEND;TZID=America/New_York:20260508T153000
DTSTAMP:20260421T091933
CREATED:20260114T171345Z
LAST-MODIFIED:20260114T171347Z
UID:10102104-1778250600-1778254200@events.miamibeachfl.gov
SUMMARY:Dominoes for Seniors (UN)
DESCRIPTION:Dominoes is available every Wednesday and Friday free of charge to all Miami Beach seniors at the North Beach Senior Center located at 7251 Collins Avenue. \nRegistration required. For more information\, contact the UNIDAD Senior Center at 305.867.0051.
URL:https://events.miamibeachfl.gov/ht/event/dominoes-for-seniors-un-2/2026-05-08/
LOCATION:UNIDAD – 7251 Collins Avenue
CATEGORIES:Senior Programming
END:VEVENT
BEGIN:VEVENT
DTSTART;TZID=America/New_York:20260513T143000
DTEND;TZID=America/New_York:20260513T153000
DTSTAMP:20260421T091933
CREATED:20260114T171345Z
LAST-MODIFIED:20260114T171347Z
UID:10103465-1778682600-1778686200@events.miamibeachfl.gov
SUMMARY:Dominoes for Seniors (UN)
DESCRIPTION:Dominoes is available every Wednesday and Friday free of charge to all Miami Beach seniors at the North Beach Senior Center located at 7251 Collins Avenue. \nRegistration required. For more information\, contact the UNIDAD Senior Center at 305.867.0051.
URL:https://events.miamibeachfl.gov/ht/event/dominoes-for-seniors-un-2/2026-05-13/
LOCATION:UNIDAD – 7251 Collins Avenue
CATEGORIES:Senior Programming
END:VEVENT
BEGIN:VEVENT
DTSTART;TZID=America/New_York:20260515T143000
DTEND;TZID=America/New_York:20260515T153000
DTSTAMP:20260421T091933
CREATED:20260114T171345Z
LAST-MODIFIED:20260114T171347Z
UID:10102105-1778855400-1778859000@events.miamibeachfl.gov
SUMMARY:Dominoes for Seniors (UN)
DESCRIPTION:Dominoes is available every Wednesday and Friday free of charge to all Miami Beach seniors at the North Beach Senior Center located at 7251 Collins Avenue. \nRegistration required. For more information\, contact the UNIDAD Senior Center at 305.867.0051.
URL:https://events.miamibeachfl.gov/ht/event/dominoes-for-seniors-un-2/2026-05-15/
LOCATION:UNIDAD – 7251 Collins Avenue
CATEGORIES:Senior Programming
END:VEVENT
BEGIN:VEVENT
DTSTART;TZID=America/New_York:20260520T143000
DTEND;TZID=America/New_York:20260520T153000
DTSTAMP:20260421T091933
CREATED:20260114T171345Z
LAST-MODIFIED:20260114T171347Z
UID:10103466-1779287400-1779291000@events.miamibeachfl.gov
SUMMARY:Dominoes for Seniors (UN)
DESCRIPTION:Dominoes is available every Wednesday and Friday free of charge to all Miami Beach seniors at the North Beach Senior Center located at 7251 Collins Avenue. \nRegistration required. For more information\, contact the UNIDAD Senior Center at 305.867.0051.
URL:https://events.miamibeachfl.gov/ht/event/dominoes-for-seniors-un-2/2026-05-20/
LOCATION:UNIDAD – 7251 Collins Avenue
CATEGORIES:Senior Programming
END:VEVENT
BEGIN:VEVENT
DTSTART;TZID=America/New_York:20260522T143000
DTEND;TZID=America/New_York:20260522T153000
DTSTAMP:20260421T091933
CREATED:20260114T171345Z
LAST-MODIFIED:20260114T171347Z
UID:10102106-1779460200-1779463800@events.miamibeachfl.gov
SUMMARY:Dominoes for Seniors (UN)
DESCRIPTION:Dominoes is available every Wednesday and Friday free of charge to all Miami Beach seniors at the North Beach Senior Center located at 7251 Collins Avenue. \nRegistration required. For more information\, contact the UNIDAD Senior Center at 305.867.0051.
URL:https://events.miamibeachfl.gov/ht/event/dominoes-for-seniors-un-2/2026-05-22/
LOCATION:UNIDAD – 7251 Collins Avenue
CATEGORIES:Senior Programming
END:VEVENT
BEGIN:VEVENT
DTSTART;TZID=America/New_York:20260527T143000
DTEND;TZID=America/New_York:20260527T153000
DTSTAMP:20260421T091933
CREATED:20260114T171345Z
LAST-MODIFIED:20260114T171347Z
UID:10103467-1779892200-1779895800@events.miamibeachfl.gov
SUMMARY:Dominoes for Seniors (UN)
DESCRIPTION:Dominoes is available every Wednesday and Friday free of charge to all Miami Beach seniors at the North Beach Senior Center located at 7251 Collins Avenue. \nRegistration required. For more information\, contact the UNIDAD Senior Center at 305.867.0051.
URL:https://events.miamibeachfl.gov/ht/event/dominoes-for-seniors-un-2/2026-05-27/
LOCATION:UNIDAD – 7251 Collins Avenue
CATEGORIES:Senior Programming
END:VEVENT
BEGIN:VEVENT
DTSTART;TZID=America/New_York:20260529T143000
DTEND;TZID=America/New_York:20260529T153000
DTSTAMP:20260421T091933
CREATED:20260114T171345Z
LAST-MODIFIED:20260114T171347Z
UID:10102107-1780065000-1780068600@events.miamibeachfl.gov
SUMMARY:Dominoes for Seniors (UN)
DESCRIPTION:Dominoes is available every Wednesday and Friday free of charge to all Miami Beach seniors at the North Beach Senior Center located at 7251 Collins Avenue. \nRegistration required. For more information\, contact the UNIDAD Senior Center at 305.867.0051.
URL:https://events.miamibeachfl.gov/ht/event/dominoes-for-seniors-un-2/2026-05-29/
LOCATION:UNIDAD – 7251 Collins Avenue
CATEGORIES:Senior Programming
END:VEVENT
BEGIN:VEVENT
DTSTART;TZID=America/New_York:20260603T143000
DTEND;TZID=America/New_York:20260603T153000
DTSTAMP:20260421T091933
CREATED:20260114T171345Z
LAST-MODIFIED:20260114T171347Z
UID:10103468-1780497000-1780500600@events.miamibeachfl.gov
SUMMARY:Dominoes for Seniors (UN)
DESCRIPTION:Dominoes is available every Wednesday and Friday free of charge to all Miami Beach seniors at the North Beach Senior Center located at 7251 Collins Avenue. \nRegistration required. For more information\, contact the UNIDAD Senior Center at 305.867.0051.
URL:https://events.miamibeachfl.gov/ht/event/dominoes-for-seniors-un-2/2026-06-03/
LOCATION:UNIDAD – 7251 Collins Avenue
CATEGORIES:Senior Programming
END:VEVENT
BEGIN:VEVENT
DTSTART;TZID=America/New_York:20260605T143000
DTEND;TZID=America/New_York:20260605T153000
DTSTAMP:20260421T091933
CREATED:20260114T171345Z
LAST-MODIFIED:20260114T171347Z
UID:10102108-1780669800-1780673400@events.miamibeachfl.gov
SUMMARY:Dominoes for Seniors (UN)
DESCRIPTION:Dominoes is available every Wednesday and Friday free of charge to all Miami Beach seniors at the North Beach Senior Center located at 7251 Collins Avenue. \nRegistration required. For more information\, contact the UNIDAD Senior Center at 305.867.0051.
URL:https://events.miamibeachfl.gov/ht/event/dominoes-for-seniors-un-2/2026-06-05/
LOCATION:UNIDAD – 7251 Collins Avenue
CATEGORIES:Senior Programming
END:VEVENT
BEGIN:VEVENT
DTSTART;TZID=America/New_York:20260610T143000
DTEND;TZID=America/New_York:20260610T153000
DTSTAMP:20260421T091933
CREATED:20260114T171345Z
LAST-MODIFIED:20260114T171347Z
UID:10103469-1781101800-1781105400@events.miamibeachfl.gov
SUMMARY:Dominoes for Seniors (UN)
DESCRIPTION:Dominoes is available every Wednesday and Friday free of charge to all Miami Beach seniors at the North Beach Senior Center located at 7251 Collins Avenue. \nRegistration required. For more information\, contact the UNIDAD Senior Center at 305.867.0051.
URL:https://events.miamibeachfl.gov/ht/event/dominoes-for-seniors-un-2/2026-06-10/
LOCATION:UNIDAD – 7251 Collins Avenue
CATEGORIES:Senior Programming
END:VEVENT
BEGIN:VEVENT
DTSTART;TZID=America/New_York:20260612T143000
DTEND;TZID=America/New_York:20260612T153000
DTSTAMP:20260421T091933
CREATED:20260114T171345Z
LAST-MODIFIED:20260114T171347Z
UID:10102109-1781274600-1781278200@events.miamibeachfl.gov
SUMMARY:Dominoes for Seniors (UN)
DESCRIPTION:Dominoes is available every Wednesday and Friday free of charge to all Miami Beach seniors at the North Beach Senior Center located at 7251 Collins Avenue. \nRegistration required. For more information\, contact the UNIDAD Senior Center at 305.867.0051.
URL:https://events.miamibeachfl.gov/ht/event/dominoes-for-seniors-un-2/2026-06-12/
LOCATION:UNIDAD – 7251 Collins Avenue
CATEGORIES:Senior Programming
END:VEVENT
BEGIN:VEVENT
DTSTART;TZID=America/New_York:20260617T143000
DTEND;TZID=America/New_York:20260617T153000
DTSTAMP:20260421T091933
CREATED:20260114T171345Z
LAST-MODIFIED:20260114T171347Z
UID:10103470-1781706600-1781710200@events.miamibeachfl.gov
SUMMARY:Dominoes for Seniors (UN)
DESCRIPTION:Dominoes is available every Wednesday and Friday free of charge to all Miami Beach seniors at the North Beach Senior Center located at 7251 Collins Avenue. \nRegistration required. For more information\, contact the UNIDAD Senior Center at 305.867.0051.
URL:https://events.miamibeachfl.gov/ht/event/dominoes-for-seniors-un-2/2026-06-17/
LOCATION:UNIDAD – 7251 Collins Avenue
CATEGORIES:Senior Programming
END:VEVENT
BEGIN:VEVENT
DTSTART;TZID=America/New_York:20260619T143000
DTEND;TZID=America/New_York:20260619T153000
DTSTAMP:20260421T091933
CREATED:20260114T171345Z
LAST-MODIFIED:20260114T171347Z
UID:10102110-1781879400-1781883000@events.miamibeachfl.gov
SUMMARY:Dominoes for Seniors (UN)
DESCRIPTION:Dominoes is available every Wednesday and Friday free of charge to all Miami Beach seniors at the North Beach Senior Center located at 7251 Collins Avenue. \nRegistration required. For more information\, contact the UNIDAD Senior Center at 305.867.0051.
URL:https://events.miamibeachfl.gov/ht/event/dominoes-for-seniors-un-2/2026-06-19/
LOCATION:UNIDAD – 7251 Collins Avenue
CATEGORIES:Senior Programming
END:VEVENT
BEGIN:VEVENT
DTSTART;TZID=America/New_York:20260624T143000
DTEND;TZID=America/New_York:20260624T153000
DTSTAMP:20260421T091933
CREATED:20260114T171345Z
LAST-MODIFIED:20260114T171347Z
UID:10103471-1782311400-1782315000@events.miamibeachfl.gov
SUMMARY:Dominoes for Seniors (UN)
DESCRIPTION:Dominoes is available every Wednesday and Friday free of charge to all Miami Beach seniors at the North Beach Senior Center located at 7251 Collins Avenue. \nRegistration required. For more information\, contact the UNIDAD Senior Center at 305.867.0051.
URL:https://events.miamibeachfl.gov/ht/event/dominoes-for-seniors-un-2/2026-06-24/
LOCATION:UNIDAD – 7251 Collins Avenue
CATEGORIES:Senior Programming
END:VEVENT
BEGIN:VEVENT
DTSTART;TZID=America/New_York:20260626T143000
DTEND;TZID=America/New_York:20260626T153000
DTSTAMP:20260421T091933
CREATED:20260114T171345Z
LAST-MODIFIED:20260114T171347Z
UID:10102111-1782484200-1782487800@events.miamibeachfl.gov
SUMMARY:Dominoes for Seniors (UN)
DESCRIPTION:Dominoes is available every Wednesday and Friday free of charge to all Miami Beach seniors at the North Beach Senior Center located at 7251 Collins Avenue. \nRegistration required. For more information\, contact the UNIDAD Senior Center at 305.867.0051.
URL:https://events.miamibeachfl.gov/ht/event/dominoes-for-seniors-un-2/2026-06-26/
LOCATION:UNIDAD – 7251 Collins Avenue
CATEGORIES:Senior Programming
END:VEVENT
BEGIN:VEVENT
DTSTART;TZID=America/New_York:20260701T143000
DTEND;TZID=America/New_York:20260701T153000
DTSTAMP:20260421T091933
CREATED:20260114T171345Z
LAST-MODIFIED:20260114T171347Z
UID:10103472-1782916200-1782919800@events.miamibeachfl.gov
SUMMARY:Dominoes for Seniors (UN)
DESCRIPTION:Dominoes is available every Wednesday and Friday free of charge to all Miami Beach seniors at the North Beach Senior Center located at 7251 Collins Avenue. \nRegistration required. For more information\, contact the UNIDAD Senior Center at 305.867.0051.
URL:https://events.miamibeachfl.gov/ht/event/dominoes-for-seniors-un-2/2026-07-01/
LOCATION:UNIDAD – 7251 Collins Avenue
CATEGORIES:Senior Programming
END:VEVENT
BEGIN:VEVENT
DTSTART;TZID=America/New_York:20260703T143000
DTEND;TZID=America/New_York:20260703T153000
DTSTAMP:20260421T091933
CREATED:20260114T171345Z
LAST-MODIFIED:20260114T171347Z
UID:10102112-1783089000-1783092600@events.miamibeachfl.gov
SUMMARY:Dominoes for Seniors (UN)
DESCRIPTION:Dominoes is available every Wednesday and Friday free of charge to all Miami Beach seniors at the North Beach Senior Center located at 7251 Collins Avenue. \nRegistration required. For more information\, contact the UNIDAD Senior Center at 305.867.0051.
URL:https://events.miamibeachfl.gov/ht/event/dominoes-for-seniors-un-2/2026-07-03/
LOCATION:UNIDAD – 7251 Collins Avenue
CATEGORIES:Senior Programming
END:VEVENT
BEGIN:VEVENT
DTSTART;TZID=America/New_York:20260708T143000
DTEND;TZID=America/New_York:20260708T153000
DTSTAMP:20260421T091933
CREATED:20260114T171345Z
LAST-MODIFIED:20260114T171347Z
UID:10103473-1783521000-1783524600@events.miamibeachfl.gov
SUMMARY:Dominoes for Seniors (UN)
DESCRIPTION:Dominoes is available every Wednesday and Friday free of charge to all Miami Beach seniors at the North Beach Senior Center located at 7251 Collins Avenue. \nRegistration required. For more information\, contact the UNIDAD Senior Center at 305.867.0051.
URL:https://events.miamibeachfl.gov/ht/event/dominoes-for-seniors-un-2/2026-07-08/
LOCATION:UNIDAD – 7251 Collins Avenue
CATEGORIES:Senior Programming
END:VEVENT
BEGIN:VEVENT
DTSTART;TZID=America/New_York:20260710T143000
DTEND;TZID=America/New_York:20260710T153000
DTSTAMP:20260421T091933
CREATED:20260114T171345Z
LAST-MODIFIED:20260114T171347Z
UID:10102113-1783693800-1783697400@events.miamibeachfl.gov
SUMMARY:Dominoes for Seniors (UN)
DESCRIPTION:Dominoes is available every Wednesday and Friday free of charge to all Miami Beach seniors at the North Beach Senior Center located at 7251 Collins Avenue. \nRegistration required. For more information\, contact the UNIDAD Senior Center at 305.867.0051.
URL:https://events.miamibeachfl.gov/ht/event/dominoes-for-seniors-un-2/2026-07-10/
LOCATION:UNIDAD – 7251 Collins Avenue
CATEGORIES:Senior Programming
END:VEVENT
BEGIN:VEVENT
DTSTART;TZID=America/New_York:20260715T143000
DTEND;TZID=America/New_York:20260715T153000
DTSTAMP:20260421T091933
CREATED:20260114T171345Z
LAST-MODIFIED:20260114T171347Z
UID:10103474-1784125800-1784129400@events.miamibeachfl.gov
SUMMARY:Dominoes for Seniors (UN)
DESCRIPTION:Dominoes is available every Wednesday and Friday free of charge to all Miami Beach seniors at the North Beach Senior Center located at 7251 Collins Avenue. \nRegistration required. For more information\, contact the UNIDAD Senior Center at 305.867.0051.
URL:https://events.miamibeachfl.gov/ht/event/dominoes-for-seniors-un-2/2026-07-15/
LOCATION:UNIDAD – 7251 Collins Avenue
CATEGORIES:Senior Programming
END:VEVENT
BEGIN:VEVENT
DTSTART;TZID=America/New_York:20260717T143000
DTEND;TZID=America/New_York:20260717T153000
DTSTAMP:20260421T091933
CREATED:20260114T171345Z
LAST-MODIFIED:20260114T171347Z
UID:10102114-1784298600-1784302200@events.miamibeachfl.gov
SUMMARY:Dominoes for Seniors (UN)
DESCRIPTION:Dominoes is available every Wednesday and Friday free of charge to all Miami Beach seniors at the North Beach Senior Center located at 7251 Collins Avenue. \nRegistration required. For more information\, contact the UNIDAD Senior Center at 305.867.0051.
URL:https://events.miamibeachfl.gov/ht/event/dominoes-for-seniors-un-2/2026-07-17/
LOCATION:UNIDAD – 7251 Collins Avenue
CATEGORIES:Senior Programming
END:VEVENT
BEGIN:VEVENT
DTSTART;TZID=America/New_York:20260722T143000
DTEND;TZID=America/New_York:20260722T153000
DTSTAMP:20260421T091933
CREATED:20260114T171345Z
LAST-MODIFIED:20260114T171347Z
UID:10103475-1784730600-1784734200@events.miamibeachfl.gov
SUMMARY:Dominoes for Seniors (UN)
DESCRIPTION:Dominoes is available every Wednesday and Friday free of charge to all Miami Beach seniors at the North Beach Senior Center located at 7251 Collins Avenue. \nRegistration required. For more information\, contact the UNIDAD Senior Center at 305.867.0051.
URL:https://events.miamibeachfl.gov/ht/event/dominoes-for-seniors-un-2/2026-07-22/
LOCATION:UNIDAD – 7251 Collins Avenue
CATEGORIES:Senior Programming
END:VEVENT
BEGIN:VEVENT
DTSTART;TZID=America/New_York:20260724T143000
DTEND;TZID=America/New_York:20260724T153000
DTSTAMP:20260421T091933
CREATED:20260114T171345Z
LAST-MODIFIED:20260114T171347Z
UID:10102115-1784903400-1784907000@events.miamibeachfl.gov
SUMMARY:Dominoes for Seniors (UN)
DESCRIPTION:Dominoes is available every Wednesday and Friday free of charge to all Miami Beach seniors at the North Beach Senior Center located at 7251 Collins Avenue. \nRegistration required. For more information\, contact the UNIDAD Senior Center at 305.867.0051.
URL:https://events.miamibeachfl.gov/ht/event/dominoes-for-seniors-un-2/2026-07-24/
LOCATION:UNIDAD – 7251 Collins Avenue
CATEGORIES:Senior Programming
END:VEVENT
BEGIN:VEVENT
DTSTART;TZID=America/New_York:20260729T143000
DTEND;TZID=America/New_York:20260729T153000
DTSTAMP:20260421T091933
CREATED:20260114T171345Z
LAST-MODIFIED:20260114T171347Z
UID:10103476-1785335400-1785339000@events.miamibeachfl.gov
SUMMARY:Dominoes for Seniors (UN)
DESCRIPTION:Dominoes is available every Wednesday and Friday free of charge to all Miami Beach seniors at the North Beach Senior Center located at 7251 Collins Avenue. \nRegistration required. For more information\, contact the UNIDAD Senior Center at 305.867.0051.
URL:https://events.miamibeachfl.gov/ht/event/dominoes-for-seniors-un-2/2026-07-29/
LOCATION:UNIDAD – 7251 Collins Avenue
CATEGORIES:Senior Programming
END:VEVENT
BEGIN:VEVENT
DTSTART;TZID=America/New_York:20260731T143000
DTEND;TZID=America/New_York:20260731T153000
DTSTAMP:20260421T091933
CREATED:20260114T171345Z
LAST-MODIFIED:20260114T171347Z
UID:10102116-1785508200-1785511800@events.miamibeachfl.gov
SUMMARY:Dominoes for Seniors (UN)
DESCRIPTION:Dominoes is available every Wednesday and Friday free of charge to all Miami Beach seniors at the North Beach Senior Center located at 7251 Collins Avenue. \nRegistration required. For more information\, contact the UNIDAD Senior Center at 305.867.0051.
URL:https://events.miamibeachfl.gov/ht/event/dominoes-for-seniors-un-2/2026-07-31/
LOCATION:UNIDAD – 7251 Collins Avenue
CATEGORIES:Senior Programming
END:VEVENT
END:VCALENDAR