BEGIN:VCALENDAR
VERSION:2.0
PRODID:-//City of Miami Beach - ECPv6.13.2.1//NONSGML v1.0//EN
CALSCALE:GREGORIAN
METHOD:PUBLISH
X-WR-CALNAME:City of Miami Beach
X-ORIGINAL-URL:https://events.miamibeachfl.gov/ht
X-WR-CALDESC:Events for City of Miami Beach
REFRESH-INTERVAL;VALUE=DURATION:PT1H
X-Robots-Tag:noindex
X-PUBLISHED-TTL:PT1H
BEGIN:VTIMEZONE
TZID:America/New_York
BEGIN:DAYLIGHT
TZOFFSETFROM:-0500
TZOFFSETTO:-0400
TZNAME:EDT
DTSTART:20270314T070000
END:DAYLIGHT
BEGIN:STANDARD
TZOFFSETFROM:-0400
TZOFFSETTO:-0500
TZNAME:EST
DTSTART:20271107T060000
END:STANDARD
END:VTIMEZONE
BEGIN:VEVENT
DTSTART;TZID=America/New_York:20270513T090000
DTEND;TZID=America/New_York:20270513T100000
DTSTAMP:20260425T075205
CREATED:20250922T183704Z
LAST-MODIFIED:20260114T172616Z
UID:10103792-1810198800-1810202400@events.miamibeachfl.gov
SUMMARY:Tai Chi for Seniors (SR)
DESCRIPTION:Tai Chi is available every Tuesday and Thursday free of charge to all Miami Beach seniors at the Scott Rakow Youth Center located at 2700 Sheridan Avenue. \nRegistration required. For more information\, contact Rodericka Moore at 305.673.7767 or roderickamoore@miamibeachfl.gov.
URL:https://events.miamibeachfl.gov/ht/event/tai-chi-for-seniors-sr-2-2-2/2027-05-13/
CATEGORIES:Senior Programming
END:VEVENT
BEGIN:VEVENT
DTSTART;TZID=America/New_York:20270512T120000
DTEND;TZID=America/New_York:20270512T130000
DTSTAMP:20260425T075205
CREATED:20260114T173921Z
LAST-MODIFIED:20260114T173921Z
UID:10104005-1810123200-1810126800@events.miamibeachfl.gov
SUMMARY:Water Aerobics (FL)
DESCRIPTION:Water Aerobics is available every Monday and Wednesday at the Flamingo Park Pool. Call 305.673.7779 for more information.
URL:https://events.miamibeachfl.gov/ht/event/water-aerobics-fl/2027-05-12/
END:VEVENT
BEGIN:VEVENT
DTSTART;TZID=America/New_York:20270511T090000
DTEND;TZID=America/New_York:20270511T100000
DTSTAMP:20260425T075205
CREATED:20250922T183704Z
LAST-MODIFIED:20260114T172616Z
UID:10103791-1810026000-1810029600@events.miamibeachfl.gov
SUMMARY:Tai Chi for Seniors (SR)
DESCRIPTION:Tai Chi is available every Tuesday and Thursday free of charge to all Miami Beach seniors at the Scott Rakow Youth Center located at 2700 Sheridan Avenue. \nRegistration required. For more information\, contact Rodericka Moore at 305.673.7767 or roderickamoore@miamibeachfl.gov.
URL:https://events.miamibeachfl.gov/ht/event/tai-chi-for-seniors-sr-2-2-2/2027-05-11/
CATEGORIES:Senior Programming
END:VEVENT
BEGIN:VEVENT
DTSTART;TZID=America/New_York:20270510T120000
DTEND;TZID=America/New_York:20270510T130000
DTSTAMP:20260425T075205
CREATED:20260114T173921Z
LAST-MODIFIED:20260114T173921Z
UID:10104004-1809950400-1809954000@events.miamibeachfl.gov
SUMMARY:Water Aerobics (FL)
DESCRIPTION:Water Aerobics is available every Monday and Wednesday at the Flamingo Park Pool. Call 305.673.7779 for more information.
URL:https://events.miamibeachfl.gov/ht/event/water-aerobics-fl/2027-05-10/
END:VEVENT
BEGIN:VEVENT
DTSTART;TZID=America/New_York:20270509T180000
DTEND;TZID=America/New_York:20270509T230000
DTSTAMP:20260425T075205
CREATED:20260424T133341Z
LAST-MODIFIED:20260424T133341Z
UID:10104566-1809885600-1809903600@events.miamibeachfl.gov
SUMMARY:Cuerda & Clave at The Betsy Piano Bar
DESCRIPTION:The Betsy Piano Bar hosts Cuerda & Clave every Sunday from 6 PM to 11 PM as part of Miami Beach’s longest-running live jazz series—seven days a week\, nine shows weekly. \nEnjoy the dynamic sounds of acclaimed pianist and composer Edgar Pantoja\, whose music blends Cuban roots with global rhythms\, alongside percussionist Gabriel Ramon Placido\, a Puerto Rican artist with international orchestral and jazz experience. Together\, they deliver a vibrant fusion of Latin jazz\, improvisation\, and world music. \nDetails & Reservations: thebetsyhotel.com/calendar
URL:https://events.miamibeachfl.gov/ht/event/cuerda-clave-at-the-betsy-piano-bar/2027-05-09/
LOCATION:betsey hotel\, 1440 Ocean Dr\, Miami Beach\, Fl\, 33139
CATEGORIES:Arts & Culture
ATTACH;FMTTYPE=image/png:https://events.miamibeachfl.gov/wp-content/uploads/2026/04/Cuerda-Clave-Promo-Materials-1-1920x1520-CUERDA-CLAVE-1.png
ORGANIZER;CN="The Betsy":MAILTO:info@thebetsyhotel.com
GEO:25.7864772;-80.1298405
X-APPLE-STRUCTURED-LOCATION;VALUE=URI;X-ADDRESS=betsey hotel 1440 Ocean Dr Miami Beach Fl 33139;X-APPLE-RADIUS=500;X-TITLE=1440 Ocean Dr:geo:-80.1298405,25.7864772
END:VEVENT
BEGIN:VEVENT
DTSTART;TZID=America/New_York:20270509T170000
DTEND;TZID=America/New_York:20270509T180000
DTSTAMP:20260425T075205
CREATED:20260424T134035Z
LAST-MODIFIED:20260424T134035Z
UID:10104827-1809882000-1809885600@events.miamibeachfl.gov
SUMMARY:The Ocean Drive Promenade Music Series
DESCRIPTION:Ocean Drive Arts presents culturally rich experiences in the heart of beautiful Miami Beach. Featuring free concerts\, visual art fairs\, literary events\, health & wellness activities and culinary activations\, these family friendly programs celebrate the best of Miami Beach with exciting local talents. Events take place Sunday afternoons among the swaying palm trees wrapped in gentle ocean breezes on the Ocean Drive Promenade located between 14th Street and 14th Place. Take a stroll on one of America’s iconic boulevards to experience the best of arts and culture with Ocean Drive Arts. \nThe Ocean Drive Promenade Music Series is a program of the Ocean Drive Improvement Association in partnership with the City of Miami Beach.
URL:https://events.miamibeachfl.gov/ht/event/the-ocean-drive-promenade-music-series/2027-05-09/
LOCATION:Lummus Park – 14 Street & Ocean Drive
CATEGORIES:Arts & Culture
ATTACH;FMTTYPE=image/jpeg:https://events.miamibeachfl.gov/wp-content/uploads/2026/04/Screenshot_24-4-2026_93739_www.miamiandbeaches.com_.jpeg
END:VEVENT
BEGIN:VEVENT
DTSTART;TZID=America/New_York:20270506T090000
DTEND;TZID=America/New_York:20270506T100000
DTSTAMP:20260425T075205
CREATED:20250922T183704Z
LAST-MODIFIED:20260114T172616Z
UID:10103790-1809594000-1809597600@events.miamibeachfl.gov
SUMMARY:Tai Chi for Seniors (SR)
DESCRIPTION:Tai Chi is available every Tuesday and Thursday free of charge to all Miami Beach seniors at the Scott Rakow Youth Center located at 2700 Sheridan Avenue. \nRegistration required. For more information\, contact Rodericka Moore at 305.673.7767 or roderickamoore@miamibeachfl.gov.
URL:https://events.miamibeachfl.gov/ht/event/tai-chi-for-seniors-sr-2-2-2/2027-05-06/
CATEGORIES:Senior Programming
END:VEVENT
BEGIN:VEVENT
DTSTART;TZID=America/New_York:20270505T120000
DTEND;TZID=America/New_York:20270505T130000
DTSTAMP:20260425T075205
CREATED:20260114T173921Z
LAST-MODIFIED:20260114T173921Z
UID:10104003-1809518400-1809522000@events.miamibeachfl.gov
SUMMARY:Water Aerobics (FL)
DESCRIPTION:Water Aerobics is available every Monday and Wednesday at the Flamingo Park Pool. Call 305.673.7779 for more information.
URL:https://events.miamibeachfl.gov/ht/event/water-aerobics-fl/2027-05-05/
END:VEVENT
BEGIN:VEVENT
DTSTART;TZID=America/New_York:20270504T090000
DTEND;TZID=America/New_York:20270504T100000
DTSTAMP:20260425T075205
CREATED:20250922T183704Z
LAST-MODIFIED:20260114T172616Z
UID:10103789-1809421200-1809424800@events.miamibeachfl.gov
SUMMARY:Tai Chi for Seniors (SR)
DESCRIPTION:Tai Chi is available every Tuesday and Thursday free of charge to all Miami Beach seniors at the Scott Rakow Youth Center located at 2700 Sheridan Avenue. \nRegistration required. For more information\, contact Rodericka Moore at 305.673.7767 or roderickamoore@miamibeachfl.gov.
URL:https://events.miamibeachfl.gov/ht/event/tai-chi-for-seniors-sr-2-2-2/2027-05-04/
CATEGORIES:Senior Programming
END:VEVENT
BEGIN:VEVENT
DTSTART;TZID=America/New_York:20270503T120000
DTEND;TZID=America/New_York:20270503T130000
DTSTAMP:20260425T075205
CREATED:20260114T173921Z
LAST-MODIFIED:20260114T173921Z
UID:10104002-1809345600-1809349200@events.miamibeachfl.gov
SUMMARY:Water Aerobics (FL)
DESCRIPTION:Water Aerobics is available every Monday and Wednesday at the Flamingo Park Pool. Call 305.673.7779 for more information.
URL:https://events.miamibeachfl.gov/ht/event/water-aerobics-fl/2027-05-03/
END:VEVENT
BEGIN:VEVENT
DTSTART;TZID=America/New_York:20270502T180000
DTEND;TZID=America/New_York:20270502T230000
DTSTAMP:20260425T075205
CREATED:20260424T133341Z
LAST-MODIFIED:20260424T133341Z
UID:10104565-1809280800-1809298800@events.miamibeachfl.gov
SUMMARY:Cuerda & Clave at The Betsy Piano Bar
DESCRIPTION:The Betsy Piano Bar hosts Cuerda & Clave every Sunday from 6 PM to 11 PM as part of Miami Beach’s longest-running live jazz series—seven days a week\, nine shows weekly. \nEnjoy the dynamic sounds of acclaimed pianist and composer Edgar Pantoja\, whose music blends Cuban roots with global rhythms\, alongside percussionist Gabriel Ramon Placido\, a Puerto Rican artist with international orchestral and jazz experience. Together\, they deliver a vibrant fusion of Latin jazz\, improvisation\, and world music. \nDetails & Reservations: thebetsyhotel.com/calendar
URL:https://events.miamibeachfl.gov/ht/event/cuerda-clave-at-the-betsy-piano-bar/2027-05-02/
LOCATION:betsey hotel\, 1440 Ocean Dr\, Miami Beach\, Fl\, 33139
CATEGORIES:Arts & Culture
ATTACH;FMTTYPE=image/png:https://events.miamibeachfl.gov/wp-content/uploads/2026/04/Cuerda-Clave-Promo-Materials-1-1920x1520-CUERDA-CLAVE-1.png
ORGANIZER;CN="The Betsy":MAILTO:info@thebetsyhotel.com
GEO:25.7864772;-80.1298405
X-APPLE-STRUCTURED-LOCATION;VALUE=URI;X-ADDRESS=betsey hotel 1440 Ocean Dr Miami Beach Fl 33139;X-APPLE-RADIUS=500;X-TITLE=1440 Ocean Dr:geo:-80.1298405,25.7864772
END:VEVENT
BEGIN:VEVENT
DTSTART;TZID=America/New_York:20270502T170000
DTEND;TZID=America/New_York:20270502T180000
DTSTAMP:20260425T075205
CREATED:20260424T134035Z
LAST-MODIFIED:20260424T134035Z
UID:10104826-1809277200-1809280800@events.miamibeachfl.gov
SUMMARY:The Ocean Drive Promenade Music Series
DESCRIPTION:Ocean Drive Arts presents culturally rich experiences in the heart of beautiful Miami Beach. Featuring free concerts\, visual art fairs\, literary events\, health & wellness activities and culinary activations\, these family friendly programs celebrate the best of Miami Beach with exciting local talents. Events take place Sunday afternoons among the swaying palm trees wrapped in gentle ocean breezes on the Ocean Drive Promenade located between 14th Street and 14th Place. Take a stroll on one of America’s iconic boulevards to experience the best of arts and culture with Ocean Drive Arts. \nThe Ocean Drive Promenade Music Series is a program of the Ocean Drive Improvement Association in partnership with the City of Miami Beach.
URL:https://events.miamibeachfl.gov/ht/event/the-ocean-drive-promenade-music-series/2027-05-02/
LOCATION:Lummus Park – 14 Street & Ocean Drive
CATEGORIES:Arts & Culture
ATTACH;FMTTYPE=image/jpeg:https://events.miamibeachfl.gov/wp-content/uploads/2026/04/Screenshot_24-4-2026_93739_www.miamiandbeaches.com_.jpeg
END:VEVENT
BEGIN:VEVENT
DTSTART;TZID=America/New_York:20270429T090000
DTEND;TZID=America/New_York:20270429T100000
DTSTAMP:20260425T075205
CREATED:20250922T183704Z
LAST-MODIFIED:20260114T172616Z
UID:10103788-1808989200-1808992800@events.miamibeachfl.gov
SUMMARY:Tai Chi for Seniors (SR)
DESCRIPTION:Tai Chi is available every Tuesday and Thursday free of charge to all Miami Beach seniors at the Scott Rakow Youth Center located at 2700 Sheridan Avenue. \nRegistration required. For more information\, contact Rodericka Moore at 305.673.7767 or roderickamoore@miamibeachfl.gov.
URL:https://events.miamibeachfl.gov/ht/event/tai-chi-for-seniors-sr-2-2-2/2027-04-29/
CATEGORIES:Senior Programming
END:VEVENT
BEGIN:VEVENT
DTSTART;TZID=America/New_York:20270428T120000
DTEND;TZID=America/New_York:20270428T130000
DTSTAMP:20260425T075205
CREATED:20260114T173921Z
LAST-MODIFIED:20260114T173921Z
UID:10104001-1808913600-1808917200@events.miamibeachfl.gov
SUMMARY:Water Aerobics (FL)
DESCRIPTION:Water Aerobics is available every Monday and Wednesday at the Flamingo Park Pool. Call 305.673.7779 for more information.
URL:https://events.miamibeachfl.gov/ht/event/water-aerobics-fl/2027-04-28/
END:VEVENT
BEGIN:VEVENT
DTSTART;TZID=America/New_York:20270427T090000
DTEND;TZID=America/New_York:20270427T100000
DTSTAMP:20260425T075205
CREATED:20250922T183704Z
LAST-MODIFIED:20260114T172616Z
UID:10103787-1808816400-1808820000@events.miamibeachfl.gov
SUMMARY:Tai Chi for Seniors (SR)
DESCRIPTION:Tai Chi is available every Tuesday and Thursday free of charge to all Miami Beach seniors at the Scott Rakow Youth Center located at 2700 Sheridan Avenue. \nRegistration required. For more information\, contact Rodericka Moore at 305.673.7767 or roderickamoore@miamibeachfl.gov.
URL:https://events.miamibeachfl.gov/ht/event/tai-chi-for-seniors-sr-2-2-2/2027-04-27/
CATEGORIES:Senior Programming
END:VEVENT
BEGIN:VEVENT
DTSTART;TZID=America/New_York:20270426T120000
DTEND;TZID=America/New_York:20270426T130000
DTSTAMP:20260425T075205
CREATED:20260114T173921Z
LAST-MODIFIED:20260114T173921Z
UID:10104000-1808740800-1808744400@events.miamibeachfl.gov
SUMMARY:Water Aerobics (FL)
DESCRIPTION:Water Aerobics is available every Monday and Wednesday at the Flamingo Park Pool. Call 305.673.7779 for more information.
URL:https://events.miamibeachfl.gov/ht/event/water-aerobics-fl/2027-04-26/
END:VEVENT
BEGIN:VEVENT
DTSTART;TZID=America/New_York:20270425T180000
DTEND;TZID=America/New_York:20270425T230000
DTSTAMP:20260425T075205
CREATED:20260424T133341Z
LAST-MODIFIED:20260424T133341Z
UID:10104564-1808676000-1808694000@events.miamibeachfl.gov
SUMMARY:Cuerda & Clave at The Betsy Piano Bar
DESCRIPTION:The Betsy Piano Bar hosts Cuerda & Clave every Sunday from 6 PM to 11 PM as part of Miami Beach’s longest-running live jazz series—seven days a week\, nine shows weekly. \nEnjoy the dynamic sounds of acclaimed pianist and composer Edgar Pantoja\, whose music blends Cuban roots with global rhythms\, alongside percussionist Gabriel Ramon Placido\, a Puerto Rican artist with international orchestral and jazz experience. Together\, they deliver a vibrant fusion of Latin jazz\, improvisation\, and world music. \nDetails & Reservations: thebetsyhotel.com/calendar
URL:https://events.miamibeachfl.gov/ht/event/cuerda-clave-at-the-betsy-piano-bar/2027-04-25/
LOCATION:betsey hotel\, 1440 Ocean Dr\, Miami Beach\, Fl\, 33139
CATEGORIES:Arts & Culture
ATTACH;FMTTYPE=image/png:https://events.miamibeachfl.gov/wp-content/uploads/2026/04/Cuerda-Clave-Promo-Materials-1-1920x1520-CUERDA-CLAVE-1.png
ORGANIZER;CN="The Betsy":MAILTO:info@thebetsyhotel.com
GEO:25.7864772;-80.1298405
X-APPLE-STRUCTURED-LOCATION;VALUE=URI;X-ADDRESS=betsey hotel 1440 Ocean Dr Miami Beach Fl 33139;X-APPLE-RADIUS=500;X-TITLE=1440 Ocean Dr:geo:-80.1298405,25.7864772
END:VEVENT
BEGIN:VEVENT
DTSTART;TZID=America/New_York:20270425T170000
DTEND;TZID=America/New_York:20270425T180000
DTSTAMP:20260425T075205
CREATED:20260424T134035Z
LAST-MODIFIED:20260424T134035Z
UID:10104825-1808672400-1808676000@events.miamibeachfl.gov
SUMMARY:The Ocean Drive Promenade Music Series
DESCRIPTION:Ocean Drive Arts presents culturally rich experiences in the heart of beautiful Miami Beach. Featuring free concerts\, visual art fairs\, literary events\, health & wellness activities and culinary activations\, these family friendly programs celebrate the best of Miami Beach with exciting local talents. Events take place Sunday afternoons among the swaying palm trees wrapped in gentle ocean breezes on the Ocean Drive Promenade located between 14th Street and 14th Place. Take a stroll on one of America’s iconic boulevards to experience the best of arts and culture with Ocean Drive Arts. \nThe Ocean Drive Promenade Music Series is a program of the Ocean Drive Improvement Association in partnership with the City of Miami Beach.
URL:https://events.miamibeachfl.gov/ht/event/the-ocean-drive-promenade-music-series/2027-04-25/
LOCATION:Lummus Park – 14 Street & Ocean Drive
CATEGORIES:Arts & Culture
ATTACH;FMTTYPE=image/jpeg:https://events.miamibeachfl.gov/wp-content/uploads/2026/04/Screenshot_24-4-2026_93739_www.miamiandbeaches.com_.jpeg
END:VEVENT
BEGIN:VEVENT
DTSTART;TZID=America/New_York:20270425T120000
DTEND;TZID=America/New_York:20270425T170000
DTSTAMP:20260425T075205
CREATED:20251113T160155Z
LAST-MODIFIED:20251113T160155Z
UID:10101830-1808654400-1808672400@events.miamibeachfl.gov
SUMMARY:The Bass Free Community Day
DESCRIPTION:Families with children of all ages are invited to join us for Family Day—an afternoon of art-making\, exploration\, and fun! Activities include in-person projects in The Bass Creativity Center\, where materials are provided to encourage hands-on creativity and experimentation. Families can also embark on a prompted art exploration of our current exhibitions using an art explorer guide—a playful scavenger hunt through the galleries\, inviting participants to search for specific artworks\, answer questions\, and engage deeply with what they discover. \nEach Family Day includes special Art Cares projects\, focusing on therapeutic\, well-being centered activities that foster connection and emotional expression through art.
URL:https://events.miamibeachfl.gov/ht/event/the-bass-free-community-day/2027-04-25/
LOCATION:The Bass Museum of Art\, 2100 Collins Avenue\, Miami Beach\, 33139\, United States
CATEGORIES:Arts & Culture
ATTACH;FMTTYPE=image/jpeg:https://events.miamibeachfl.gov/wp-content/uploads/2025/11/Monica-McGivern-33.jpg
ORGANIZER;CN="The Bass":MAILTO:info@thebass.org
GEO:25.7969605;-80.1285521
X-APPLE-STRUCTURED-LOCATION;VALUE=URI;X-ADDRESS=The Bass Museum of Art 2100 Collins Avenue Miami Beach 33139 United States;X-APPLE-RADIUS=500;X-TITLE=2100 Collins Avenue:geo:-80.1285521,25.7969605
END:VEVENT
BEGIN:VEVENT
DTSTART;TZID=America/New_York:20270422T090000
DTEND;TZID=America/New_York:20270422T100000
DTSTAMP:20260425T075205
CREATED:20250922T183704Z
LAST-MODIFIED:20260114T172616Z
UID:10103786-1808384400-1808388000@events.miamibeachfl.gov
SUMMARY:Tai Chi for Seniors (SR)
DESCRIPTION:Tai Chi is available every Tuesday and Thursday free of charge to all Miami Beach seniors at the Scott Rakow Youth Center located at 2700 Sheridan Avenue. \nRegistration required. For more information\, contact Rodericka Moore at 305.673.7767 or roderickamoore@miamibeachfl.gov.
URL:https://events.miamibeachfl.gov/ht/event/tai-chi-for-seniors-sr-2-2-2/2027-04-22/
CATEGORIES:Senior Programming
END:VEVENT
BEGIN:VEVENT
DTSTART;TZID=America/New_York:20270421T120000
DTEND;TZID=America/New_York:20270421T130000
DTSTAMP:20260425T075205
CREATED:20260114T173921Z
LAST-MODIFIED:20260114T173921Z
UID:10103999-1808308800-1808312400@events.miamibeachfl.gov
SUMMARY:Water Aerobics (FL)
DESCRIPTION:Water Aerobics is available every Monday and Wednesday at the Flamingo Park Pool. Call 305.673.7779 for more information.
URL:https://events.miamibeachfl.gov/ht/event/water-aerobics-fl/2027-04-21/
END:VEVENT
BEGIN:VEVENT
DTSTART;TZID=America/New_York:20270420T090000
DTEND;TZID=America/New_York:20270420T100000
DTSTAMP:20260425T075205
CREATED:20250922T183704Z
LAST-MODIFIED:20260114T172616Z
UID:10103785-1808211600-1808215200@events.miamibeachfl.gov
SUMMARY:Tai Chi for Seniors (SR)
DESCRIPTION:Tai Chi is available every Tuesday and Thursday free of charge to all Miami Beach seniors at the Scott Rakow Youth Center located at 2700 Sheridan Avenue. \nRegistration required. For more information\, contact Rodericka Moore at 305.673.7767 or roderickamoore@miamibeachfl.gov.
URL:https://events.miamibeachfl.gov/ht/event/tai-chi-for-seniors-sr-2-2-2/2027-04-20/
CATEGORIES:Senior Programming
END:VEVENT
BEGIN:VEVENT
DTSTART;TZID=America/New_York:20270419T120000
DTEND;TZID=America/New_York:20270419T130000
DTSTAMP:20260425T075205
CREATED:20260114T173921Z
LAST-MODIFIED:20260114T173921Z
UID:10103998-1808136000-1808139600@events.miamibeachfl.gov
SUMMARY:Water Aerobics (FL)
DESCRIPTION:Water Aerobics is available every Monday and Wednesday at the Flamingo Park Pool. Call 305.673.7779 for more information.
URL:https://events.miamibeachfl.gov/ht/event/water-aerobics-fl/2027-04-19/
END:VEVENT
BEGIN:VEVENT
DTSTART;TZID=America/New_York:20270418T180000
DTEND;TZID=America/New_York:20270418T230000
DTSTAMP:20260425T075205
CREATED:20260424T133341Z
LAST-MODIFIED:20260424T133341Z
UID:10104563-1808071200-1808089200@events.miamibeachfl.gov
SUMMARY:Cuerda & Clave at The Betsy Piano Bar
DESCRIPTION:The Betsy Piano Bar hosts Cuerda & Clave every Sunday from 6 PM to 11 PM as part of Miami Beach’s longest-running live jazz series—seven days a week\, nine shows weekly. \nEnjoy the dynamic sounds of acclaimed pianist and composer Edgar Pantoja\, whose music blends Cuban roots with global rhythms\, alongside percussionist Gabriel Ramon Placido\, a Puerto Rican artist with international orchestral and jazz experience. Together\, they deliver a vibrant fusion of Latin jazz\, improvisation\, and world music. \nDetails & Reservations: thebetsyhotel.com/calendar
URL:https://events.miamibeachfl.gov/ht/event/cuerda-clave-at-the-betsy-piano-bar/2027-04-18/
LOCATION:betsey hotel\, 1440 Ocean Dr\, Miami Beach\, Fl\, 33139
CATEGORIES:Arts & Culture
ATTACH;FMTTYPE=image/png:https://events.miamibeachfl.gov/wp-content/uploads/2026/04/Cuerda-Clave-Promo-Materials-1-1920x1520-CUERDA-CLAVE-1.png
ORGANIZER;CN="The Betsy":MAILTO:info@thebetsyhotel.com
GEO:25.7864772;-80.1298405
X-APPLE-STRUCTURED-LOCATION;VALUE=URI;X-ADDRESS=betsey hotel 1440 Ocean Dr Miami Beach Fl 33139;X-APPLE-RADIUS=500;X-TITLE=1440 Ocean Dr:geo:-80.1298405,25.7864772
END:VEVENT
BEGIN:VEVENT
DTSTART;TZID=America/New_York:20270418T170000
DTEND;TZID=America/New_York:20270418T180000
DTSTAMP:20260425T075205
CREATED:20260424T134035Z
LAST-MODIFIED:20260424T134035Z
UID:10104824-1808067600-1808071200@events.miamibeachfl.gov
SUMMARY:The Ocean Drive Promenade Music Series
DESCRIPTION:Ocean Drive Arts presents culturally rich experiences in the heart of beautiful Miami Beach. Featuring free concerts\, visual art fairs\, literary events\, health & wellness activities and culinary activations\, these family friendly programs celebrate the best of Miami Beach with exciting local talents. Events take place Sunday afternoons among the swaying palm trees wrapped in gentle ocean breezes on the Ocean Drive Promenade located between 14th Street and 14th Place. Take a stroll on one of America’s iconic boulevards to experience the best of arts and culture with Ocean Drive Arts. \nThe Ocean Drive Promenade Music Series is a program of the Ocean Drive Improvement Association in partnership with the City of Miami Beach.
URL:https://events.miamibeachfl.gov/ht/event/the-ocean-drive-promenade-music-series/2027-04-18/
LOCATION:Lummus Park – 14 Street & Ocean Drive
CATEGORIES:Arts & Culture
ATTACH;FMTTYPE=image/jpeg:https://events.miamibeachfl.gov/wp-content/uploads/2026/04/Screenshot_24-4-2026_93739_www.miamiandbeaches.com_.jpeg
END:VEVENT
BEGIN:VEVENT
DTSTART;TZID=America/New_York:20270415T090000
DTEND;TZID=America/New_York:20270415T100000
DTSTAMP:20260425T075205
CREATED:20250922T183704Z
LAST-MODIFIED:20260114T172616Z
UID:10103784-1807779600-1807783200@events.miamibeachfl.gov
SUMMARY:Tai Chi for Seniors (SR)
DESCRIPTION:Tai Chi is available every Tuesday and Thursday free of charge to all Miami Beach seniors at the Scott Rakow Youth Center located at 2700 Sheridan Avenue. \nRegistration required. For more information\, contact Rodericka Moore at 305.673.7767 or roderickamoore@miamibeachfl.gov.
URL:https://events.miamibeachfl.gov/ht/event/tai-chi-for-seniors-sr-2-2-2/2027-04-15/
CATEGORIES:Senior Programming
END:VEVENT
BEGIN:VEVENT
DTSTART;TZID=America/New_York:20270414T120000
DTEND;TZID=America/New_York:20270414T130000
DTSTAMP:20260425T075205
CREATED:20260114T173921Z
LAST-MODIFIED:20260114T173921Z
UID:10103997-1807704000-1807707600@events.miamibeachfl.gov
SUMMARY:Water Aerobics (FL)
DESCRIPTION:Water Aerobics is available every Monday and Wednesday at the Flamingo Park Pool. Call 305.673.7779 for more information.
URL:https://events.miamibeachfl.gov/ht/event/water-aerobics-fl/2027-04-14/
END:VEVENT
BEGIN:VEVENT
DTSTART;TZID=America/New_York:20270413T090000
DTEND;TZID=America/New_York:20270413T100000
DTSTAMP:20260425T075205
CREATED:20250922T183704Z
LAST-MODIFIED:20260114T172616Z
UID:10103783-1807606800-1807610400@events.miamibeachfl.gov
SUMMARY:Tai Chi for Seniors (SR)
DESCRIPTION:Tai Chi is available every Tuesday and Thursday free of charge to all Miami Beach seniors at the Scott Rakow Youth Center located at 2700 Sheridan Avenue. \nRegistration required. For more information\, contact Rodericka Moore at 305.673.7767 or roderickamoore@miamibeachfl.gov.
URL:https://events.miamibeachfl.gov/ht/event/tai-chi-for-seniors-sr-2-2-2/2027-04-13/
CATEGORIES:Senior Programming
END:VEVENT
BEGIN:VEVENT
DTSTART;TZID=America/New_York:20270412T120000
DTEND;TZID=America/New_York:20270412T130000
DTSTAMP:20260425T075205
CREATED:20260114T173921Z
LAST-MODIFIED:20260114T173921Z
UID:10103996-1807531200-1807534800@events.miamibeachfl.gov
SUMMARY:Water Aerobics (FL)
DESCRIPTION:Water Aerobics is available every Monday and Wednesday at the Flamingo Park Pool. Call 305.673.7779 for more information.
URL:https://events.miamibeachfl.gov/ht/event/water-aerobics-fl/2027-04-12/
END:VEVENT
BEGIN:VEVENT
DTSTART;TZID=America/New_York:20270411T180000
DTEND;TZID=America/New_York:20270411T230000
DTSTAMP:20260425T075205
CREATED:20260424T133341Z
LAST-MODIFIED:20260424T133341Z
UID:10104562-1807466400-1807484400@events.miamibeachfl.gov
SUMMARY:Cuerda & Clave at The Betsy Piano Bar
DESCRIPTION:The Betsy Piano Bar hosts Cuerda & Clave every Sunday from 6 PM to 11 PM as part of Miami Beach’s longest-running live jazz series—seven days a week\, nine shows weekly. \nEnjoy the dynamic sounds of acclaimed pianist and composer Edgar Pantoja\, whose music blends Cuban roots with global rhythms\, alongside percussionist Gabriel Ramon Placido\, a Puerto Rican artist with international orchestral and jazz experience. Together\, they deliver a vibrant fusion of Latin jazz\, improvisation\, and world music. \nDetails & Reservations: thebetsyhotel.com/calendar
URL:https://events.miamibeachfl.gov/ht/event/cuerda-clave-at-the-betsy-piano-bar/2027-04-11/
LOCATION:betsey hotel\, 1440 Ocean Dr\, Miami Beach\, Fl\, 33139
CATEGORIES:Arts & Culture
ATTACH;FMTTYPE=image/png:https://events.miamibeachfl.gov/wp-content/uploads/2026/04/Cuerda-Clave-Promo-Materials-1-1920x1520-CUERDA-CLAVE-1.png
ORGANIZER;CN="The Betsy":MAILTO:info@thebetsyhotel.com
GEO:25.7864772;-80.1298405
X-APPLE-STRUCTURED-LOCATION;VALUE=URI;X-ADDRESS=betsey hotel 1440 Ocean Dr Miami Beach Fl 33139;X-APPLE-RADIUS=500;X-TITLE=1440 Ocean Dr:geo:-80.1298405,25.7864772
END:VEVENT
END:VCALENDAR