BEGIN:VCALENDAR
VERSION:2.0
PRODID:-//City of Miami Beach - ECPv6.13.2.1//NONSGML v1.0//EN
CALSCALE:GREGORIAN
METHOD:PUBLISH
X-WR-CALNAME:City of Miami Beach
X-ORIGINAL-URL:https://events.miamibeachfl.gov/ht
X-WR-CALDESC:Events for City of Miami Beach
REFRESH-INTERVAL;VALUE=DURATION:PT1H
X-Robots-Tag:noindex
X-PUBLISHED-TTL:PT1H
BEGIN:VTIMEZONE
TZID:America/New_York
BEGIN:DAYLIGHT
TZOFFSETFROM:-0500
TZOFFSETTO:-0400
TZNAME:EDT
DTSTART:20260308T070000
END:DAYLIGHT
BEGIN:STANDARD
TZOFFSETFROM:-0400
TZOFFSETTO:-0500
TZNAME:EST
DTSTART:20261101T060000
END:STANDARD
END:VTIMEZONE
BEGIN:VEVENT
DTSTART;TZID=America/New_York:20261210T080000
DTEND;TZID=America/New_York:20261210T090000
DTSTAMP:20260421T120559
CREATED:20250701T170601Z
LAST-MODIFIED:20260113T215739Z
UID:10103073-1796889600-1796893200@events.miamibeachfl.gov
SUMMARY:Outdoor Yoga for Seniors (UN)
DESCRIPTION:Outdoor yoga is available every Tuesday and Thursday free of charge to all Miami Beach seniors on the second floor terrace of the North Beach Senior Center located at 7251 Collins Avenue. Temporarily relocating to North Shore Park Youth Center (501 72 Street) Dance Room. \nRegistration required. For more information\, contact the UNIDAD Senior Center at 305.867.0051.
URL:https://events.miamibeachfl.gov/ht/event/outdoor-yoga-for-seniors-2/2026-12-10/
LOCATION:UNIDAD – 7251 Collins Avenue
CATEGORIES:Senior Programming
END:VEVENT
BEGIN:VEVENT
DTSTART;TZID=America/New_York:20261210T090000
DTEND;TZID=America/New_York:20261210T100000
DTSTAMP:20260421T120559
CREATED:20250922T183704Z
LAST-MODIFIED:20260114T172616Z
UID:10103748-1796893200-1796896800@events.miamibeachfl.gov
SUMMARY:Tai Chi for Seniors (SR)
DESCRIPTION:Tai Chi is available every Tuesday and Thursday free of charge to all Miami Beach seniors at the Scott Rakow Youth Center located at 2700 Sheridan Avenue. \nRegistration required. For more information\, contact Rodericka Moore at 305.673.7767 or roderickamoore@miamibeachfl.gov.
URL:https://events.miamibeachfl.gov/ht/event/tai-chi-for-seniors-sr-2-2-2/2026-12-10/
CATEGORIES:Senior Programming
END:VEVENT
BEGIN:VEVENT
DTSTART;TZID=America/New_York:20261210T090000
DTEND;TZID=America/New_York:20261210T170000
DTSTAMP:20260421T120559
CREATED:20251223T161902Z
LAST-MODIFIED:20260219T144919Z
UID:10104252-1796893200-1796922000@events.miamibeachfl.gov
SUMMARY:Design Review Board*
DESCRIPTION:Hybrid Meeting \nhttps://miamibeachfl-gov.zoom.us/j/82273941924 \nAccess ID: 82273941924# \n1.305.224.1968 or 888.475.4499 \n  \nMiami Beach City Hall \n1700 Convention Center Drive\, 3rd Floor \nCommission Chamber
URL:https://events.miamibeachfl.gov/ht/event/design-review-board-3/2026-12-10/
LOCATION:City Hall Commission Chamber\, 1700 Convention Center Drive\, Miami Beach\, FL\, 33139\, United States
CATEGORIES:City Government
GEO:25.7928055;-80.1353576
X-APPLE-STRUCTURED-LOCATION;VALUE=URI;X-ADDRESS=City Hall Commission Chamber 1700 Convention Center Drive Miami Beach FL 33139 United States;X-APPLE-RADIUS=500;X-TITLE=1700 Convention Center Drive:geo:-80.1353576,25.7928055
END:VEVENT
BEGIN:VEVENT
DTSTART;TZID=America/New_York:20261210T091500
DTEND;TZID=America/New_York:20261210T101500
DTSTAMP:20260421T120559
CREATED:20250701T171017Z
LAST-MODIFIED:20260113T215839Z
UID:10103177-1796894100-1796897700@events.miamibeachfl.gov
SUMMARY:Chair Yoga for Seniors (UN)
DESCRIPTION:Chair yoga is available every Tuesday and Thursday free of charge to all Miami Beach seniors at the North Beach Senior Center located at 7251 Collins Avenue. \nRegistration required. For more information\, contact the UNIDAD Senior Center at 305.867.0051.
URL:https://events.miamibeachfl.gov/ht/event/chair-yoga-for-seniors-2/2026-12-10/
LOCATION:UNIDAD – 7251 Collins Avenue
CATEGORIES:Senior Programming
END:VEVENT
BEGIN:VEVENT
DTSTART;TZID=America/New_York:20261210T101500
DTEND;TZID=America/New_York:20261210T111500
DTSTAMP:20260421T120559
CREATED:20250701T172658Z
LAST-MODIFIED:20260114T171557Z
UID:10103546-1796897700-1796901300@events.miamibeachfl.gov
SUMMARY:Chair Aerobics for Seniors (UN)
DESCRIPTION:Chair Aerobics is available every Thursday free of charge to all Miami Beach seniors at the North Beach Senior Center located at 7251 Collins Avenue. \nRegistration required. For more information\, contact UNIDAD 305.867.0051.
URL:https://events.miamibeachfl.gov/ht/event/chair-aerobics-for-seniors-north-beach-senior-center-2/2026-12-10/
LOCATION:UNIDAD – 7251 Collins Avenue
CATEGORIES:Senior Programming
END:VEVENT
BEGIN:VEVENT
DTSTART;TZID=America/New_York:20261210T103000
DTEND;TZID=America/New_York:20261210T113000
DTSTAMP:20260421T120559
CREATED:20251124T181529Z
LAST-MODIFIED:20251124T182231Z
UID:10100912-1796898600-1796902200@events.miamibeachfl.gov
SUMMARY:Pole Walking for Seniors (UN)
DESCRIPTION:Pole Walking is available every Tuesday and Thursday free of charge to all Miami Beach seniors at the North Beach Senior Center located at 7251 Collins Avenue. \nRegistration required. For more information\, contact the UNIDAD Senior Center at 305.867.0051.
URL:https://events.miamibeachfl.gov/ht/event/pole-walking-for-seniors-un-3/2026-12-10/
LOCATION:UNIDAD – 7251 Collins Avenue
CATEGORIES:Senior Programming
END:VEVENT
BEGIN:VEVENT
DTSTART;TZID=America/New_York:20261210T133000
DTEND;TZID=America/New_York:20261210T150000
DTSTAMP:20260421T120559
CREATED:20250701T172907Z
LAST-MODIFIED:20260114T171750Z
UID:10103597-1796909400-1796914800@events.miamibeachfl.gov
SUMMARY:Book Club for Seniors (UN)
DESCRIPTION:Book Club is available every Thursday free of charge to all Miami Beach seniors at the North Beach Senior Center located at 7251 Collins Avenue. \nRegistration required. For more information\, contact the UNIDAD Senior Center at 305.867.0051.
URL:https://events.miamibeachfl.gov/ht/event/book-club-2/2026-12-10/
CATEGORIES:Senior Programming
END:VEVENT
BEGIN:VEVENT
DTSTART;TZID=America/New_York:20261210T150000
DTEND;TZID=America/New_York:20261210T170000
DTSTAMP:20260421T120559
CREATED:20260212T183453Z
LAST-MODIFIED:20260212T183512Z
UID:10104193-1796914800-1796922000@events.miamibeachfl.gov
SUMMARY:Sustainability Committee Meeting
DESCRIPTION:The Miami Beach Resident Sustainability Committee will hold a virtual public meeting on Thursday\, December 10\, at 3 p.m. The committee provides recommendations on community-wide sustainability. The committee encourages environmental awareness among residents\, employees\, and business partners to help accomplish the goal of keeping Miami Beach environmentally and sustainably conscious.\n\nDate: December 10\nTime: 3-5 PM\nZoom Meeting: https://us06web.zoom.us/j/87690959005 \nOr One tap mobile: +13052241968\, 87213876691# US +19292056099\, 87213876691# US (New York)\nWebinar ID: 876 9095 9005
URL:https://events.miamibeachfl.gov/ht/event/sustainability-committee-meeting-10/
CATEGORIES:Environment
END:VEVENT
END:VCALENDAR