BEGIN:VCALENDAR
VERSION:2.0
PRODID:-//City of Miami Beach - ECPv6.13.2.1//NONSGML v1.0//EN
CALSCALE:GREGORIAN
METHOD:PUBLISH
X-WR-CALNAME:City of Miami Beach
X-ORIGINAL-URL:https://events.miamibeachfl.gov/ht
X-WR-CALDESC:Events for City of Miami Beach
REFRESH-INTERVAL;VALUE=DURATION:PT1H
X-Robots-Tag:noindex
X-PUBLISHED-TTL:PT1H
BEGIN:VTIMEZONE
TZID:America/New_York
BEGIN:DAYLIGHT
TZOFFSETFROM:-0500
TZOFFSETTO:-0400
TZNAME:EDT
DTSTART:20260308T070000
END:DAYLIGHT
BEGIN:STANDARD
TZOFFSETFROM:-0400
TZOFFSETTO:-0500
TZNAME:EST
DTSTART:20261101T060000
END:STANDARD
END:VTIMEZONE
BEGIN:VEVENT
DTSTART;TZID=America/New_York:20261112T080000
DTEND;TZID=America/New_York:20261112T090000
DTSTAMP:20260421T104211
CREATED:20250701T170601Z
LAST-MODIFIED:20260113T215739Z
UID:10103065-1794470400-1794474000@events.miamibeachfl.gov
SUMMARY:Outdoor Yoga for Seniors (UN)
DESCRIPTION:Outdoor yoga is available every Tuesday and Thursday free of charge to all Miami Beach seniors on the second floor terrace of the North Beach Senior Center located at 7251 Collins Avenue. Temporarily relocating to North Shore Park Youth Center (501 72 Street) Dance Room. \nRegistration required. For more information\, contact the UNIDAD Senior Center at 305.867.0051.
URL:https://events.miamibeachfl.gov/ht/event/outdoor-yoga-for-seniors-2/2026-11-12/
LOCATION:UNIDAD – 7251 Collins Avenue
CATEGORIES:Senior Programming
END:VEVENT
BEGIN:VEVENT
DTSTART;TZID=America/New_York:20261112T090000
DTEND;TZID=America/New_York:20261112T100000
DTSTAMP:20260421T104211
CREATED:20250922T183704Z
LAST-MODIFIED:20260114T172616Z
UID:10103740-1794474000-1794477600@events.miamibeachfl.gov
SUMMARY:Tai Chi for Seniors (SR)
DESCRIPTION:Tai Chi is available every Tuesday and Thursday free of charge to all Miami Beach seniors at the Scott Rakow Youth Center located at 2700 Sheridan Avenue. \nRegistration required. For more information\, contact Rodericka Moore at 305.673.7767 or roderickamoore@miamibeachfl.gov.
URL:https://events.miamibeachfl.gov/ht/event/tai-chi-for-seniors-sr-2-2-2/2026-11-12/
CATEGORIES:Senior Programming
END:VEVENT
BEGIN:VEVENT
DTSTART;TZID=America/New_York:20261112T091500
DTEND;TZID=America/New_York:20261112T101500
DTSTAMP:20260421T104211
CREATED:20250701T171017Z
LAST-MODIFIED:20260113T215839Z
UID:10103169-1794474900-1794478500@events.miamibeachfl.gov
SUMMARY:Chair Yoga for Seniors (UN)
DESCRIPTION:Chair yoga is available every Tuesday and Thursday free of charge to all Miami Beach seniors at the North Beach Senior Center located at 7251 Collins Avenue. \nRegistration required. For more information\, contact the UNIDAD Senior Center at 305.867.0051.
URL:https://events.miamibeachfl.gov/ht/event/chair-yoga-for-seniors-2/2026-11-12/
LOCATION:UNIDAD – 7251 Collins Avenue
CATEGORIES:Senior Programming
END:VEVENT
BEGIN:VEVENT
DTSTART;TZID=America/New_York:20261112T101500
DTEND;TZID=America/New_York:20261112T111500
DTSTAMP:20260421T104211
CREATED:20250701T172658Z
LAST-MODIFIED:20260114T171557Z
UID:10103542-1794478500-1794482100@events.miamibeachfl.gov
SUMMARY:Chair Aerobics for Seniors (UN)
DESCRIPTION:Chair Aerobics is available every Thursday free of charge to all Miami Beach seniors at the North Beach Senior Center located at 7251 Collins Avenue. \nRegistration required. For more information\, contact UNIDAD 305.867.0051.
URL:https://events.miamibeachfl.gov/ht/event/chair-aerobics-for-seniors-north-beach-senior-center-2/2026-11-12/
LOCATION:UNIDAD – 7251 Collins Avenue
CATEGORIES:Senior Programming
END:VEVENT
BEGIN:VEVENT
DTSTART;TZID=America/New_York:20261112T103000
DTEND;TZID=America/New_York:20261112T113000
DTSTAMP:20260421T104211
CREATED:20251124T181529Z
LAST-MODIFIED:20251124T182231Z
UID:10100904-1794479400-1794483000@events.miamibeachfl.gov
SUMMARY:Pole Walking for Seniors (UN)
DESCRIPTION:Pole Walking is available every Tuesday and Thursday free of charge to all Miami Beach seniors at the North Beach Senior Center located at 7251 Collins Avenue. \nRegistration required. For more information\, contact the UNIDAD Senior Center at 305.867.0051.
URL:https://events.miamibeachfl.gov/ht/event/pole-walking-for-seniors-un-3/2026-11-12/
LOCATION:UNIDAD – 7251 Collins Avenue
CATEGORIES:Senior Programming
END:VEVENT
BEGIN:VEVENT
DTSTART;TZID=America/New_York:20261112T110000
DTEND;TZID=America/New_York:20261112T110000
DTSTAMP:20260421T104211
CREATED:20260420T191430Z
LAST-MODIFIED:20260420T191553Z
UID:10104501-1794481200-1794481200@events.miamibeachfl.gov
SUMMARY:West Avenue Phase II Neighborhood Improvement Project: Latest Updates & Community Discussion
DESCRIPTION:Join Commissioner Alex J. Fernandez for a virtual community meeting to explore progress\, upcoming plans and a review of construction site updates for the West Avenue Phase II Neighborhood Improvement Project. \nThursday\, November 12 \n11 AM \nZoom link: https://us06web.zoom.us/j/82324069554
URL:https://events.miamibeachfl.gov/ht/event/west-avenue-phase-ii-neighborhood-improvement-project-latest-updates-community-discussion/
CATEGORIES:City Government,Featured Events
ATTACH;FMTTYPE=image/jpeg:https://events.miamibeachfl.gov/wp-content/uploads/2024/06/Optimized_Featured-Events-CityGovernment.jpg
LOCATION:
END:VEVENT
BEGIN:VEVENT
DTSTART;TZID=America/New_York:20261112T133000
DTEND;TZID=America/New_York:20261112T150000
DTSTAMP:20260421T104211
CREATED:20250701T172907Z
LAST-MODIFIED:20260114T171750Z
UID:10103593-1794490200-1794495600@events.miamibeachfl.gov
SUMMARY:Book Club for Seniors (UN)
DESCRIPTION:Book Club is available every Thursday free of charge to all Miami Beach seniors at the North Beach Senior Center located at 7251 Collins Avenue. \nRegistration required. For more information\, contact the UNIDAD Senior Center at 305.867.0051.
URL:https://events.miamibeachfl.gov/ht/event/book-club-2/2026-11-12/
CATEGORIES:Senior Programming
END:VEVENT
BEGIN:VEVENT
DTSTART;TZID=America/New_York:20261112T150000
DTEND;TZID=America/New_York:20261112T170000
DTSTAMP:20260421T104211
CREATED:20260212T183332Z
LAST-MODIFIED:20260212T183332Z
UID:10104192-1794495600-1794502800@events.miamibeachfl.gov
SUMMARY:Sustainability Committee Meeting
DESCRIPTION:The Miami Beach Resident Sustainability Committee will hold a virtual public meeting on Thursday\, November 12\, at 3 p.m. The committee provides recommendations on community-wide sustainability. The committee encourages environmental awareness among residents\, employees\, and business partners to help accomplish the goal of keeping Miami Beach environmentally and sustainably conscious. \nDate: November 12\nTime: 3-5 PM\nZoom Meeting: https://us06web.zoom.us/j/87690959005 \nOr One tap mobile: +13052241968\, 87213876691# US +19292056099\, 87213876691# US (New York)\nWebinar ID: 876 9095 9005
URL:https://events.miamibeachfl.gov/ht/event/sustainability-committee-meeting-9/
CATEGORIES:Environment
END:VEVENT
END:VCALENDAR