BEGIN:VCALENDAR
VERSION:2.0
PRODID:-//City of Miami Beach - ECPv6.13.2.1//NONSGML v1.0//EN
CALSCALE:GREGORIAN
METHOD:PUBLISH
X-ORIGINAL-URL:https://events.miamibeachfl.gov/fr
X-WR-CALDESC:Évènements pour City of Miami Beach
REFRESH-INTERVAL;VALUE=DURATION:PT1H
X-Robots-Tag:noindex
X-PUBLISHED-TTL:PT1H
BEGIN:VTIMEZONE
TZID:America/New_York
BEGIN:DAYLIGHT
TZOFFSETFROM:-0500
TZOFFSETTO:-0400
TZNAME:EDT
DTSTART:20260308T070000
END:DAYLIGHT
BEGIN:STANDARD
TZOFFSETFROM:-0400
TZOFFSETTO:-0500
TZNAME:EST
DTSTART:20261101T060000
END:STANDARD
END:VTIMEZONE
BEGIN:VEVENT
DTSTART;TZID=America/New_York:20261119T080000
DTEND;TZID=America/New_York:20261119T090000
DTSTAMP:20260421T105436
CREATED:20250701T170601Z
LAST-MODIFIED:20260113T215739Z
UID:10103067-1795075200-1795078800@events.miamibeachfl.gov
SUMMARY:Outdoor Yoga for Seniors (UN)
DESCRIPTION:Outdoor yoga is available every Tuesday and Thursday free of charge to all Miami Beach seniors on the second floor terrace of the North Beach Senior Center located at 7251 Collins Avenue. Temporarily relocating to North Shore Park Youth Center (501 72 Street) Dance Room. \nRegistration required. For more information\, contact the UNIDAD Senior Center at 305.867.0051.
URL:https://events.miamibeachfl.gov/fr/event/outdoor-yoga-for-seniors-2/2026-11-19/
LOCATION:UNIDAD – 7251 Collins Avenue
CATEGORIES:Senior Programming
END:VEVENT
BEGIN:VEVENT
DTSTART;TZID=America/New_York:20261119T090000
DTEND;TZID=America/New_York:20261119T100000
DTSTAMP:20260421T105436
CREATED:20250922T183704Z
LAST-MODIFIED:20260114T172616Z
UID:10103742-1795078800-1795082400@events.miamibeachfl.gov
SUMMARY:Tai Chi for Seniors (SR)
DESCRIPTION:Tai Chi is available every Tuesday and Thursday free of charge to all Miami Beach seniors at the Scott Rakow Youth Center located at 2700 Sheridan Avenue. \nRegistration required. For more information\, contact Rodericka Moore at 305.673.7767 or roderickamoore@miamibeachfl.gov.
URL:https://events.miamibeachfl.gov/fr/event/tai-chi-for-seniors-sr-2-2-2/2026-11-19/
CATEGORIES:Senior Programming
END:VEVENT
BEGIN:VEVENT
DTSTART;TZID=America/New_York:20261119T090000
DTEND;TZID=America/New_York:20261119T140000
DTSTAMP:20260421T105436
CREATED:20260204T165710Z
LAST-MODIFIED:20260303T220103Z
UID:10104298-1795078800-1795096800@events.miamibeachfl.gov
SUMMARY:Miami Beach Business-Ready Day
DESCRIPTION:MIAMI BEACH\nBUSINESS READY\nDAYS\nThursday\, February 19 | 9AM – 2PM\nCity Hall (1700 Convention Center Drive\, City Hall Building Department – 2nd Floor Conference Room)\nThe City of Miami Beach will host a Business-Ready Day on Thursday\, February 19\, from 9 a.m. to  2 p.m. at City Hall (1700 Convention Center Drive\, City Hall Building Department – 2nd Floor Conference Room). Business Ready Days are held quarterly and are designed to serve as a one-stop resource for local entrepreneurs and business owners. \nDuring the event\, businesses can receive personalized assistance with obtaining or renewing their Business Tax Receipt (BTR)\, along with guidance on City and County regulatory requirements. Representatives from all departments involved in the BTR process will be available to provide coordinated\, in-person support. \nParticipating City of Miami Beach departments include Planning and Zoning\, Building\, Finance\, Fire\, Economic Development\, Procurement\, Tourism and Culture\, Public Works\, and the Office of Emergency Management. County partners include the Miami-Dade County Building Department\, Department of Regulatory and Economic Resources (DERM)\, Water and Sewer Department\, and the Miami-Dade County Tax Collector’s Office. Together\, these agencies will help businesses better understand permitting\, compliance\, and operational requirements. \nThe Economic Development Department will be available to discuss business incentive programs\, site selection assistance\, and the City’s Business Concierge Service\, which supports businesses navigating City processes and accessing local resources. The Public Works Department will provide guidance on the Sidewalk Café Program\, including application requirements and best practices for activating outdoor dining spaces. The Procurement Department will offer guidance on vendor certification and local government contracting opportunities\, while the Office of Emergency Management will share information on the Business Emergency Response Team (BERT) program. \nPartner organizations will also participate\, including BrightStar Credit Union\,  which will be on site to share information about its business banking products\, financial programs\, funding opportunities\, and small business resources.
URL:https://events.miamibeachfl.gov/fr/event/miami-beach-business-ready-day/2026-11-19/
LOCATION:Building Department 2nd Floor Conf. Room\, 1700 Convention Center Dr\, Miami Beach\, 33139\, United States
CATEGORIES:City Government,Economic Development,Featured Events
ATTACH;FMTTYPE=image/jpeg:https://events.miamibeachfl.gov/wp-content/uploads/2024/08/Featured-Events-Economic-Development-1.jpeg
ORGANIZER;CN="City of Miami Beach Economic Development Department":MAILTO:mbbiz@miamibeachfl.gov
GEO:25.7928055;-80.1353576
X-APPLE-STRUCTURED-LOCATION;VALUE=URI;X-ADDRESS=Building Department 2nd Floor Conf. Room 1700 Convention Center Dr Miami Beach 33139 United States;X-APPLE-RADIUS=500;X-TITLE=1700 Convention Center Dr:geo:-80.1353576,25.7928055
END:VEVENT
BEGIN:VEVENT
DTSTART;TZID=America/New_York:20261119T090000
DTEND;TZID=America/New_York:20261119T170000
DTSTAMP:20260421T105436
CREATED:20251223T161902Z
LAST-MODIFIED:20260219T144919Z
UID:10104251-1795078800-1795107600@events.miamibeachfl.gov
SUMMARY:Design Review Board*
DESCRIPTION:Hybrid Meeting \nhttps://miamibeachfl-gov.zoom.us/j/82273941924 \nAccess ID: 82273941924# \n1.305.224.1968 or 888.475.4499 \n  \nMiami Beach City Hall \n1700 Convention Center Drive\, 3rd Floor \nCommission Chamber
URL:https://events.miamibeachfl.gov/fr/event/design-review-board-3/2026-11-19/
LOCATION:City Hall Commission Chamber\, 1700 Convention Center Drive\, Miami Beach\, FL\, 33139\, United States
CATEGORIES:City Government
GEO:25.7928055;-80.1353576
X-APPLE-STRUCTURED-LOCATION;VALUE=URI;X-ADDRESS=City Hall Commission Chamber 1700 Convention Center Drive Miami Beach FL 33139 United States;X-APPLE-RADIUS=500;X-TITLE=1700 Convention Center Drive:geo:-80.1353576,25.7928055
END:VEVENT
BEGIN:VEVENT
DTSTART;TZID=America/New_York:20261119T091500
DTEND;TZID=America/New_York:20261119T101500
DTSTAMP:20260421T105436
CREATED:20250701T171017Z
LAST-MODIFIED:20260113T215839Z
UID:10103171-1795079700-1795083300@events.miamibeachfl.gov
SUMMARY:Chair Yoga for Seniors (UN)
DESCRIPTION:Chair yoga is available every Tuesday and Thursday free of charge to all Miami Beach seniors at the North Beach Senior Center located at 7251 Collins Avenue. \nRegistration required. For more information\, contact the UNIDAD Senior Center at 305.867.0051.
URL:https://events.miamibeachfl.gov/fr/event/chair-yoga-for-seniors-2/2026-11-19/
LOCATION:UNIDAD – 7251 Collins Avenue
CATEGORIES:Senior Programming
END:VEVENT
BEGIN:VEVENT
DTSTART;TZID=America/New_York:20261119T101500
DTEND;TZID=America/New_York:20261119T111500
DTSTAMP:20260421T105436
CREATED:20250701T172658Z
LAST-MODIFIED:20260114T171557Z
UID:10103543-1795083300-1795086900@events.miamibeachfl.gov
SUMMARY:Chair Aerobics for Seniors (UN)
DESCRIPTION:Chair Aerobics is available every Thursday free of charge to all Miami Beach seniors at the North Beach Senior Center located at 7251 Collins Avenue. \nRegistration required. For more information\, contact UNIDAD 305.867.0051.
URL:https://events.miamibeachfl.gov/fr/event/chair-aerobics-for-seniors-north-beach-senior-center-2/2026-11-19/
LOCATION:UNIDAD – 7251 Collins Avenue
CATEGORIES:Senior Programming
END:VEVENT
BEGIN:VEVENT
DTSTART;TZID=America/New_York:20261119T103000
DTEND;TZID=America/New_York:20261119T113000
DTSTAMP:20260421T105436
CREATED:20251124T181529Z
LAST-MODIFIED:20251124T182231Z
UID:10100906-1795084200-1795087800@events.miamibeachfl.gov
SUMMARY:Pole Walking for Seniors (UN)
DESCRIPTION:Pole Walking is available every Tuesday and Thursday free of charge to all Miami Beach seniors at the North Beach Senior Center located at 7251 Collins Avenue. \nRegistration required. For more information\, contact the UNIDAD Senior Center at 305.867.0051.
URL:https://events.miamibeachfl.gov/fr/event/pole-walking-for-seniors-un-3/2026-11-19/
LOCATION:UNIDAD – 7251 Collins Avenue
CATEGORIES:Senior Programming
END:VEVENT
BEGIN:VEVENT
DTSTART;TZID=America/New_York:20261119T133000
DTEND;TZID=America/New_York:20261119T150000
DTSTAMP:20260421T105436
CREATED:20250701T172907Z
LAST-MODIFIED:20260114T171750Z
UID:10103594-1795095000-1795100400@events.miamibeachfl.gov
SUMMARY:Book Club for Seniors (UN)
DESCRIPTION:Book Club is available every Thursday free of charge to all Miami Beach seniors at the North Beach Senior Center located at 7251 Collins Avenue. \nRegistration required. For more information\, contact the UNIDAD Senior Center at 305.867.0051.
URL:https://events.miamibeachfl.gov/fr/event/book-club-2/2026-11-19/
CATEGORIES:Senior Programming
END:VEVENT
END:VCALENDAR