BEGIN:VCALENDAR
VERSION:2.0
PRODID:-//City of Miami Beach - ECPv6.13.2.1//NONSGML v1.0//EN
CALSCALE:GREGORIAN
METHOD:PUBLISH
X-ORIGINAL-URL:https://events.miamibeachfl.gov
X-WR-CALDESC:Events for City of Miami Beach
REFRESH-INTERVAL;VALUE=DURATION:PT1H
X-Robots-Tag:noindex
X-PUBLISHED-TTL:PT1H
BEGIN:VTIMEZONE
TZID:America/New_York
BEGIN:DAYLIGHT
TZOFFSETFROM:-0500
TZOFFSETTO:-0400
TZNAME:EDT
DTSTART:20260308T070000
END:DAYLIGHT
BEGIN:STANDARD
TZOFFSETFROM:-0400
TZOFFSETTO:-0500
TZNAME:EST
DTSTART:20261101T060000
END:STANDARD
END:VTIMEZONE
BEGIN:VEVENT
DTSTART;VALUE=DATE:20260422
DTEND;VALUE=DATE:20260423
DTSTAMP:20260419T081704
CREATED:20260116T210705Z
LAST-MODIFIED:20260116T210725Z
UID:10104077-1776848400-1776877200@events.miamibeachfl.gov
SUMMARY:City Commission*
DESCRIPTION:Hybrid Meeting \nhttps://miamibeachfl-gov.zoom.us/j/81392857671 \nAccess ID: 81392857671# \n1.305.224.1968 or 888.475.4499 \n  \nMiami Beach City Hall \n1700 Convention Center Dr\, 3rd Floor \nCommission Chamber
URL:https://events.miamibeachfl.gov/event/city-commission/2026-04-22/
LOCATION:City Hall Commission Chamber\, 1700 Convention Center Drive\, Miami Beach\, FL\, 33139\, United States
CATEGORIES:City Government
GEO:25.7928055;-80.1353576
X-APPLE-STRUCTURED-LOCATION;VALUE=URI;X-ADDRESS=City Hall Commission Chamber 1700 Convention Center Drive Miami Beach FL 33139 United States;X-APPLE-RADIUS=500;X-TITLE=1700 Convention Center Drive:geo:-80.1353576,25.7928055
END:VEVENT
BEGIN:VEVENT
DTSTART;VALUE=DATE:20260520
DTEND;VALUE=DATE:20260521
DTSTAMP:20260419T081704
CREATED:20260116T210705Z
LAST-MODIFIED:20260116T210725Z
UID:10104078-1779267600-1779296400@events.miamibeachfl.gov
SUMMARY:City Commission*
DESCRIPTION:Hybrid Meeting \nhttps://miamibeachfl-gov.zoom.us/j/81392857671 \nAccess ID: 81392857671# \n1.305.224.1968 or 888.475.4499 \n  \nMiami Beach City Hall \n1700 Convention Center Dr\, 3rd Floor \nCommission Chamber
URL:https://events.miamibeachfl.gov/event/city-commission/2026-05-20/
LOCATION:City Hall Commission Chamber\, 1700 Convention Center Drive\, Miami Beach\, FL\, 33139\, United States
CATEGORIES:City Government
GEO:25.7928055;-80.1353576
X-APPLE-STRUCTURED-LOCATION;VALUE=URI;X-ADDRESS=City Hall Commission Chamber 1700 Convention Center Drive Miami Beach FL 33139 United States;X-APPLE-RADIUS=500;X-TITLE=1700 Convention Center Drive:geo:-80.1353576,25.7928055
END:VEVENT
BEGIN:VEVENT
DTSTART;VALUE=DATE:20260624
DTEND;VALUE=DATE:20260625
DTSTAMP:20260419T081704
CREATED:20260116T210705Z
LAST-MODIFIED:20260116T210725Z
UID:10104079-1782291600-1782320400@events.miamibeachfl.gov
SUMMARY:City Commission*
DESCRIPTION:Hybrid Meeting \nhttps://miamibeachfl-gov.zoom.us/j/81392857671 \nAccess ID: 81392857671# \n1.305.224.1968 or 888.475.4499 \n  \nMiami Beach City Hall \n1700 Convention Center Dr\, 3rd Floor \nCommission Chamber
URL:https://events.miamibeachfl.gov/event/city-commission/2026-06-24/
LOCATION:City Hall Commission Chamber\, 1700 Convention Center Drive\, Miami Beach\, FL\, 33139\, United States
CATEGORIES:City Government
GEO:25.7928055;-80.1353576
X-APPLE-STRUCTURED-LOCATION;VALUE=URI;X-ADDRESS=City Hall Commission Chamber 1700 Convention Center Drive Miami Beach FL 33139 United States;X-APPLE-RADIUS=500;X-TITLE=1700 Convention Center Drive:geo:-80.1353576,25.7928055
END:VEVENT
BEGIN:VEVENT
DTSTART;VALUE=DATE:20260722
DTEND;VALUE=DATE:20260723
DTSTAMP:20260419T081704
CREATED:20260116T210705Z
LAST-MODIFIED:20260116T210725Z
UID:10104080-1784710800-1784739600@events.miamibeachfl.gov
SUMMARY:City Commission*
DESCRIPTION:Hybrid Meeting \nhttps://miamibeachfl-gov.zoom.us/j/81392857671 \nAccess ID: 81392857671# \n1.305.224.1968 or 888.475.4499 \n  \nMiami Beach City Hall \n1700 Convention Center Dr\, 3rd Floor \nCommission Chamber
URL:https://events.miamibeachfl.gov/event/city-commission/2026-07-22/
LOCATION:City Hall Commission Chamber\, 1700 Convention Center Drive\, Miami Beach\, FL\, 33139\, United States
CATEGORIES:City Government
GEO:25.7928055;-80.1353576
X-APPLE-STRUCTURED-LOCATION;VALUE=URI;X-ADDRESS=City Hall Commission Chamber 1700 Convention Center Drive Miami Beach FL 33139 United States;X-APPLE-RADIUS=500;X-TITLE=1700 Convention Center Drive:geo:-80.1353576,25.7928055
END:VEVENT
BEGIN:VEVENT
DTSTART;VALUE=DATE:20260910
DTEND;VALUE=DATE:20260911
DTSTAMP:20260419T081704
CREATED:20260116T210705Z
LAST-MODIFIED:20260116T210725Z
UID:10104081-1789030800-1789059600@events.miamibeachfl.gov
SUMMARY:City Commission*
DESCRIPTION:Hybrid Meeting \nhttps://miamibeachfl-gov.zoom.us/j/81392857671 \nAccess ID: 81392857671# \n1.305.224.1968 or 888.475.4499 \n  \nMiami Beach City Hall \n1700 Convention Center Dr\, 3rd Floor \nCommission Chamber
URL:https://events.miamibeachfl.gov/event/city-commission/2026-09-10/
LOCATION:City Hall Commission Chamber\, 1700 Convention Center Drive\, Miami Beach\, FL\, 33139\, United States
CATEGORIES:City Government
GEO:25.7928055;-80.1353576
X-APPLE-STRUCTURED-LOCATION;VALUE=URI;X-ADDRESS=City Hall Commission Chamber 1700 Convention Center Drive Miami Beach FL 33139 United States;X-APPLE-RADIUS=500;X-TITLE=1700 Convention Center Drive:geo:-80.1353576,25.7928055
END:VEVENT
BEGIN:VEVENT
DTSTART;VALUE=DATE:20261014
DTEND;VALUE=DATE:20261015
DTSTAMP:20260419T081704
CREATED:20260116T210705Z
LAST-MODIFIED:20260116T210725Z
UID:10104082-1791968400-1791997200@events.miamibeachfl.gov
SUMMARY:City Commission*
DESCRIPTION:Hybrid Meeting \nhttps://miamibeachfl-gov.zoom.us/j/81392857671 \nAccess ID: 81392857671# \n1.305.224.1968 or 888.475.4499 \n  \nMiami Beach City Hall \n1700 Convention Center Dr\, 3rd Floor \nCommission Chamber
URL:https://events.miamibeachfl.gov/event/city-commission/2026-10-14/
LOCATION:City Hall Commission Chamber\, 1700 Convention Center Drive\, Miami Beach\, FL\, 33139\, United States
CATEGORIES:City Government
GEO:25.7928055;-80.1353576
X-APPLE-STRUCTURED-LOCATION;VALUE=URI;X-ADDRESS=City Hall Commission Chamber 1700 Convention Center Drive Miami Beach FL 33139 United States;X-APPLE-RADIUS=500;X-TITLE=1700 Convention Center Drive:geo:-80.1353576,25.7928055
END:VEVENT
BEGIN:VEVENT
DTSTART;VALUE=DATE:20261118
DTEND;VALUE=DATE:20261119
DTSTAMP:20260419T081704
CREATED:20260116T210705Z
LAST-MODIFIED:20260116T210725Z
UID:10104083-1794992400-1795021200@events.miamibeachfl.gov
SUMMARY:City Commission*
DESCRIPTION:Hybrid Meeting \nhttps://miamibeachfl-gov.zoom.us/j/81392857671 \nAccess ID: 81392857671# \n1.305.224.1968 or 888.475.4499 \n  \nMiami Beach City Hall \n1700 Convention Center Dr\, 3rd Floor \nCommission Chamber
URL:https://events.miamibeachfl.gov/event/city-commission/2026-11-18/
LOCATION:City Hall Commission Chamber\, 1700 Convention Center Drive\, Miami Beach\, FL\, 33139\, United States
CATEGORIES:City Government
GEO:25.7928055;-80.1353576
X-APPLE-STRUCTURED-LOCATION;VALUE=URI;X-ADDRESS=City Hall Commission Chamber 1700 Convention Center Drive Miami Beach FL 33139 United States;X-APPLE-RADIUS=500;X-TITLE=1700 Convention Center Drive:geo:-80.1353576,25.7928055
END:VEVENT
BEGIN:VEVENT
DTSTART;VALUE=DATE:20261209
DTEND;VALUE=DATE:20261210
DTSTAMP:20260419T081704
CREATED:20260116T210705Z
LAST-MODIFIED:20260116T210725Z
UID:10104084-1796806800-1796835600@events.miamibeachfl.gov
SUMMARY:City Commission*
DESCRIPTION:Hybrid Meeting \nhttps://miamibeachfl-gov.zoom.us/j/81392857671 \nAccess ID: 81392857671# \n1.305.224.1968 or 888.475.4499 \n  \nMiami Beach City Hall \n1700 Convention Center Dr\, 3rd Floor \nCommission Chamber
URL:https://events.miamibeachfl.gov/event/city-commission/2026-12-09/
LOCATION:City Hall Commission Chamber\, 1700 Convention Center Drive\, Miami Beach\, FL\, 33139\, United States
CATEGORIES:City Government
GEO:25.7928055;-80.1353576
X-APPLE-STRUCTURED-LOCATION;VALUE=URI;X-ADDRESS=City Hall Commission Chamber 1700 Convention Center Drive Miami Beach FL 33139 United States;X-APPLE-RADIUS=500;X-TITLE=1700 Convention Center Drive:geo:-80.1353576,25.7928055
END:VEVENT
END:VCALENDAR