BEGIN:VCALENDAR
VERSION:2.0
PRODID:-//City of Miami Beach - ECPv6.13.2.1//NONSGML v1.0//EN
CALSCALE:GREGORIAN
METHOD:PUBLISH
X-ORIGINAL-URL:https://events.miamibeachfl.gov/es
X-WR-CALDESC:Eventos para City of Miami Beach
REFRESH-INTERVAL;VALUE=DURATION:PT1H
X-Robots-Tag:noindex
X-PUBLISHED-TTL:PT1H
BEGIN:VTIMEZONE
TZID:America/New_York
BEGIN:DAYLIGHT
TZOFFSETFROM:-0500
TZOFFSETTO:-0400
TZNAME:EDT
DTSTART:20280312T070000
END:DAYLIGHT
BEGIN:STANDARD
TZOFFSETFROM:-0400
TZOFFSETTO:-0500
TZNAME:EST
DTSTART:20281105T060000
END:STANDARD
END:VTIMEZONE
BEGIN:VEVENT
DTSTART;TZID=America/New_York:20280319T170000
DTEND;TZID=America/New_York:20280319T180000
DTSTAMP:20260424T114541
CREATED:20260424T134035Z
LAST-MODIFIED:20260424T134035Z
UID:10104872-1837098000-1837101600@events.miamibeachfl.gov
SUMMARY:The Ocean Drive Promenade Music Series
DESCRIPTION:Ocean Drive Arts presents culturally rich experiences in the heart of beautiful Miami Beach. Featuring free concerts\, visual art fairs\, literary events\, health & wellness activities and culinary activations\, these family friendly programs celebrate the best of Miami Beach with exciting local talents. Events take place Sunday afternoons among the swaying palm trees wrapped in gentle ocean breezes on the Ocean Drive Promenade located between 14th Street and 14th Place. Take a stroll on one of America’s iconic boulevards to experience the best of arts and culture with Ocean Drive Arts. \nThe Ocean Drive Promenade Music Series is a program of the Ocean Drive Improvement Association in partnership with the City of Miami Beach.
URL:https://events.miamibeachfl.gov/es/event/the-ocean-drive-promenade-music-series/2028-03-19/
LOCATION:Lummus Park – 14 Street & Ocean Drive
CATEGORIES:Arts & Culture
ATTACH;FMTTYPE=image/jpeg:https://events.miamibeachfl.gov/wp-content/uploads/2026/04/Screenshot_24-4-2026_93739_www.miamiandbeaches.com_.jpeg
END:VEVENT
BEGIN:VEVENT
DTSTART;TZID=America/New_York:20280319T180000
DTEND;TZID=America/New_York:20280319T230000
DTSTAMP:20260424T114541
CREATED:20260424T133341Z
LAST-MODIFIED:20260424T133341Z
UID:10104611-1837101600-1837119600@events.miamibeachfl.gov
SUMMARY:Cuerda & Clave at The Betsy Piano Bar
DESCRIPTION:The Betsy Piano Bar hosts Cuerda & Clave every Sunday from 6 PM to 11 PM as part of Miami Beach’s longest-running live jazz series—seven days a week\, nine shows weekly. \nEnjoy the dynamic sounds of acclaimed pianist and composer Edgar Pantoja\, whose music blends Cuban roots with global rhythms\, alongside percussionist Gabriel Ramon Placido\, a Puerto Rican artist with international orchestral and jazz experience. Together\, they deliver a vibrant fusion of Latin jazz\, improvisation\, and world music. \nDetails & Reservations: thebetsyhotel.com/calendar
URL:https://events.miamibeachfl.gov/es/event/cuerda-clave-at-the-betsy-piano-bar/2028-03-19/
LOCATION:betsey hotel\, 1440 Ocean Dr\, Miami Beach\, Fl\, 33139
CATEGORIES:Arts & Culture
ATTACH;FMTTYPE=image/png:https://events.miamibeachfl.gov/wp-content/uploads/2026/04/Cuerda-Clave-Promo-Materials-1-1920x1520-CUERDA-CLAVE-1.png
ORGANIZER;CN="The Betsy":MAILTO:info@thebetsyhotel.com
GEO:25.7864772;-80.1298405
X-APPLE-STRUCTURED-LOCATION;VALUE=URI;X-ADDRESS=betsey hotel 1440 Ocean Dr Miami Beach Fl 33139;X-APPLE-RADIUS=500;X-TITLE=1440 Ocean Dr:geo:-80.1298405,25.7864772
END:VEVENT
END:VCALENDAR