BEGIN:VCALENDAR
VERSION:2.0
PRODID:-//City of Miami Beach - ECPv6.13.2.1//NONSGML v1.0//EN
CALSCALE:GREGORIAN
METHOD:PUBLISH
X-ORIGINAL-URL:https://events.miamibeachfl.gov/es
X-WR-CALDESC:Eventos para City of Miami Beach
REFRESH-INTERVAL;VALUE=DURATION:PT1H
X-Robots-Tag:noindex
X-PUBLISHED-TTL:PT1H
BEGIN:VTIMEZONE
TZID:America/New_York
BEGIN:DAYLIGHT
TZOFFSETFROM:-0500
TZOFFSETTO:-0400
TZNAME:EDT
DTSTART:20260308T070000
END:DAYLIGHT
BEGIN:STANDARD
TZOFFSETFROM:-0400
TZOFFSETTO:-0500
TZNAME:EST
DTSTART:20261101T060000
END:STANDARD
END:VTIMEZONE
BEGIN:VEVENT
DTSTART;TZID=America/New_York:20260420T103000
DTEND;TZID=America/New_York:20260420T113000
DTSTAMP:20260419T110352
CREATED:20250701T165341Z
LAST-MODIFIED:20260113T213413Z
UID:10102798-1776681000-1776684600@events.miamibeachfl.gov
SUMMARY:Calisthenics for Seniors (UN)
DESCRIPTION:Calisthenics is available every Monday and Wednesday free of charge to all Miami Beach seniors at the North Beach Senior Center located at 7251 Collins Avenue. \nRegistration required. For more information\, contact the UNIDAD Senior Center at 305.867.0051.
URL:https://events.miamibeachfl.gov/es/event/calisthenics-un-2/2026-04-20/
CATEGORIES:Senior Programming
END:VEVENT
BEGIN:VEVENT
DTSTART;TZID=America/New_York:20260422T103000
DTEND;TZID=America/New_York:20260422T113000
DTSTAMP:20260419T110352
CREATED:20250701T165341Z
LAST-MODIFIED:20260113T213413Z
UID:10102799-1776853800-1776857400@events.miamibeachfl.gov
SUMMARY:Calisthenics for Seniors (UN)
DESCRIPTION:Calisthenics is available every Monday and Wednesday free of charge to all Miami Beach seniors at the North Beach Senior Center located at 7251 Collins Avenue. \nRegistration required. For more information\, contact the UNIDAD Senior Center at 305.867.0051.
URL:https://events.miamibeachfl.gov/es/event/calisthenics-un-2/2026-04-22/
CATEGORIES:Senior Programming
END:VEVENT
BEGIN:VEVENT
DTSTART;TZID=America/New_York:20260427T103000
DTEND;TZID=America/New_York:20260427T113000
DTSTAMP:20260419T110352
CREATED:20250701T165341Z
LAST-MODIFIED:20260113T213413Z
UID:10102800-1777285800-1777289400@events.miamibeachfl.gov
SUMMARY:Calisthenics for Seniors (UN)
DESCRIPTION:Calisthenics is available every Monday and Wednesday free of charge to all Miami Beach seniors at the North Beach Senior Center located at 7251 Collins Avenue. \nRegistration required. For more information\, contact the UNIDAD Senior Center at 305.867.0051.
URL:https://events.miamibeachfl.gov/es/event/calisthenics-un-2/2026-04-27/
CATEGORIES:Senior Programming
END:VEVENT
BEGIN:VEVENT
DTSTART;TZID=America/New_York:20260429T103000
DTEND;TZID=America/New_York:20260429T113000
DTSTAMP:20260419T110352
CREATED:20250701T165341Z
LAST-MODIFIED:20260113T213413Z
UID:10102801-1777458600-1777462200@events.miamibeachfl.gov
SUMMARY:Calisthenics for Seniors (UN)
DESCRIPTION:Calisthenics is available every Monday and Wednesday free of charge to all Miami Beach seniors at the North Beach Senior Center located at 7251 Collins Avenue. \nRegistration required. For more information\, contact the UNIDAD Senior Center at 305.867.0051.
URL:https://events.miamibeachfl.gov/es/event/calisthenics-un-2/2026-04-29/
CATEGORIES:Senior Programming
END:VEVENT
BEGIN:VEVENT
DTSTART;TZID=America/New_York:20260504T103000
DTEND;TZID=America/New_York:20260504T113000
DTSTAMP:20260419T110352
CREATED:20250701T165341Z
LAST-MODIFIED:20260113T213413Z
UID:10102802-1777890600-1777894200@events.miamibeachfl.gov
SUMMARY:Calisthenics for Seniors (UN)
DESCRIPTION:Calisthenics is available every Monday and Wednesday free of charge to all Miami Beach seniors at the North Beach Senior Center located at 7251 Collins Avenue. \nRegistration required. For more information\, contact the UNIDAD Senior Center at 305.867.0051.
URL:https://events.miamibeachfl.gov/es/event/calisthenics-un-2/2026-05-04/
CATEGORIES:Senior Programming
END:VEVENT
BEGIN:VEVENT
DTSTART;TZID=America/New_York:20260506T103000
DTEND;TZID=America/New_York:20260506T113000
DTSTAMP:20260419T110352
CREATED:20250701T165341Z
LAST-MODIFIED:20260113T213413Z
UID:10102803-1778063400-1778067000@events.miamibeachfl.gov
SUMMARY:Calisthenics for Seniors (UN)
DESCRIPTION:Calisthenics is available every Monday and Wednesday free of charge to all Miami Beach seniors at the North Beach Senior Center located at 7251 Collins Avenue. \nRegistration required. For more information\, contact the UNIDAD Senior Center at 305.867.0051.
URL:https://events.miamibeachfl.gov/es/event/calisthenics-un-2/2026-05-06/
CATEGORIES:Senior Programming
END:VEVENT
BEGIN:VEVENT
DTSTART;TZID=America/New_York:20260511T103000
DTEND;TZID=America/New_York:20260511T113000
DTSTAMP:20260419T110352
CREATED:20250701T165341Z
LAST-MODIFIED:20260113T213413Z
UID:10102804-1778495400-1778499000@events.miamibeachfl.gov
SUMMARY:Calisthenics for Seniors (UN)
DESCRIPTION:Calisthenics is available every Monday and Wednesday free of charge to all Miami Beach seniors at the North Beach Senior Center located at 7251 Collins Avenue. \nRegistration required. For more information\, contact the UNIDAD Senior Center at 305.867.0051.
URL:https://events.miamibeachfl.gov/es/event/calisthenics-un-2/2026-05-11/
CATEGORIES:Senior Programming
END:VEVENT
BEGIN:VEVENT
DTSTART;TZID=America/New_York:20260513T103000
DTEND;TZID=America/New_York:20260513T113000
DTSTAMP:20260419T110352
CREATED:20250701T165341Z
LAST-MODIFIED:20260113T213413Z
UID:10102805-1778668200-1778671800@events.miamibeachfl.gov
SUMMARY:Calisthenics for Seniors (UN)
DESCRIPTION:Calisthenics is available every Monday and Wednesday free of charge to all Miami Beach seniors at the North Beach Senior Center located at 7251 Collins Avenue. \nRegistration required. For more information\, contact the UNIDAD Senior Center at 305.867.0051.
URL:https://events.miamibeachfl.gov/es/event/calisthenics-un-2/2026-05-13/
CATEGORIES:Senior Programming
END:VEVENT
BEGIN:VEVENT
DTSTART;TZID=America/New_York:20260518T103000
DTEND;TZID=America/New_York:20260518T113000
DTSTAMP:20260419T110352
CREATED:20250701T165341Z
LAST-MODIFIED:20260113T213413Z
UID:10102806-1779100200-1779103800@events.miamibeachfl.gov
SUMMARY:Calisthenics for Seniors (UN)
DESCRIPTION:Calisthenics is available every Monday and Wednesday free of charge to all Miami Beach seniors at the North Beach Senior Center located at 7251 Collins Avenue. \nRegistration required. For more information\, contact the UNIDAD Senior Center at 305.867.0051.
URL:https://events.miamibeachfl.gov/es/event/calisthenics-un-2/2026-05-18/
CATEGORIES:Senior Programming
END:VEVENT
BEGIN:VEVENT
DTSTART;TZID=America/New_York:20260520T103000
DTEND;TZID=America/New_York:20260520T113000
DTSTAMP:20260419T110352
CREATED:20250701T165341Z
LAST-MODIFIED:20260113T213413Z
UID:10102807-1779273000-1779276600@events.miamibeachfl.gov
SUMMARY:Calisthenics for Seniors (UN)
DESCRIPTION:Calisthenics is available every Monday and Wednesday free of charge to all Miami Beach seniors at the North Beach Senior Center located at 7251 Collins Avenue. \nRegistration required. For more information\, contact the UNIDAD Senior Center at 305.867.0051.
URL:https://events.miamibeachfl.gov/es/event/calisthenics-un-2/2026-05-20/
CATEGORIES:Senior Programming
END:VEVENT
BEGIN:VEVENT
DTSTART;TZID=America/New_York:20260525T103000
DTEND;TZID=America/New_York:20260525T113000
DTSTAMP:20260419T110352
CREATED:20250701T165341Z
LAST-MODIFIED:20260113T213413Z
UID:10102808-1779705000-1779708600@events.miamibeachfl.gov
SUMMARY:Calisthenics for Seniors (UN)
DESCRIPTION:Calisthenics is available every Monday and Wednesday free of charge to all Miami Beach seniors at the North Beach Senior Center located at 7251 Collins Avenue. \nRegistration required. For more information\, contact the UNIDAD Senior Center at 305.867.0051.
URL:https://events.miamibeachfl.gov/es/event/calisthenics-un-2/2026-05-25/
CATEGORIES:Senior Programming
END:VEVENT
BEGIN:VEVENT
DTSTART;TZID=America/New_York:20260527T103000
DTEND;TZID=America/New_York:20260527T113000
DTSTAMP:20260419T110352
CREATED:20250701T165341Z
LAST-MODIFIED:20260113T213413Z
UID:10102809-1779877800-1779881400@events.miamibeachfl.gov
SUMMARY:Calisthenics for Seniors (UN)
DESCRIPTION:Calisthenics is available every Monday and Wednesday free of charge to all Miami Beach seniors at the North Beach Senior Center located at 7251 Collins Avenue. \nRegistration required. For more information\, contact the UNIDAD Senior Center at 305.867.0051.
URL:https://events.miamibeachfl.gov/es/event/calisthenics-un-2/2026-05-27/
CATEGORIES:Senior Programming
END:VEVENT
BEGIN:VEVENT
DTSTART;TZID=America/New_York:20260601T103000
DTEND;TZID=America/New_York:20260601T113000
DTSTAMP:20260419T110352
CREATED:20250701T165341Z
LAST-MODIFIED:20260113T213413Z
UID:10102810-1780309800-1780313400@events.miamibeachfl.gov
SUMMARY:Calisthenics for Seniors (UN)
DESCRIPTION:Calisthenics is available every Monday and Wednesday free of charge to all Miami Beach seniors at the North Beach Senior Center located at 7251 Collins Avenue. \nRegistration required. For more information\, contact the UNIDAD Senior Center at 305.867.0051.
URL:https://events.miamibeachfl.gov/es/event/calisthenics-un-2/2026-06-01/
CATEGORIES:Senior Programming
END:VEVENT
BEGIN:VEVENT
DTSTART;TZID=America/New_York:20260603T103000
DTEND;TZID=America/New_York:20260603T113000
DTSTAMP:20260419T110352
CREATED:20250701T165341Z
LAST-MODIFIED:20260113T213413Z
UID:10102811-1780482600-1780486200@events.miamibeachfl.gov
SUMMARY:Calisthenics for Seniors (UN)
DESCRIPTION:Calisthenics is available every Monday and Wednesday free of charge to all Miami Beach seniors at the North Beach Senior Center located at 7251 Collins Avenue. \nRegistration required. For more information\, contact the UNIDAD Senior Center at 305.867.0051.
URL:https://events.miamibeachfl.gov/es/event/calisthenics-un-2/2026-06-03/
CATEGORIES:Senior Programming
END:VEVENT
BEGIN:VEVENT
DTSTART;TZID=America/New_York:20260608T103000
DTEND;TZID=America/New_York:20260608T113000
DTSTAMP:20260419T110352
CREATED:20250701T165341Z
LAST-MODIFIED:20260113T213413Z
UID:10102812-1780914600-1780918200@events.miamibeachfl.gov
SUMMARY:Calisthenics for Seniors (UN)
DESCRIPTION:Calisthenics is available every Monday and Wednesday free of charge to all Miami Beach seniors at the North Beach Senior Center located at 7251 Collins Avenue. \nRegistration required. For more information\, contact the UNIDAD Senior Center at 305.867.0051.
URL:https://events.miamibeachfl.gov/es/event/calisthenics-un-2/2026-06-08/
CATEGORIES:Senior Programming
END:VEVENT
BEGIN:VEVENT
DTSTART;TZID=America/New_York:20260610T103000
DTEND;TZID=America/New_York:20260610T113000
DTSTAMP:20260419T110352
CREATED:20250701T165341Z
LAST-MODIFIED:20260113T213413Z
UID:10102813-1781087400-1781091000@events.miamibeachfl.gov
SUMMARY:Calisthenics for Seniors (UN)
DESCRIPTION:Calisthenics is available every Monday and Wednesday free of charge to all Miami Beach seniors at the North Beach Senior Center located at 7251 Collins Avenue. \nRegistration required. For more information\, contact the UNIDAD Senior Center at 305.867.0051.
URL:https://events.miamibeachfl.gov/es/event/calisthenics-un-2/2026-06-10/
CATEGORIES:Senior Programming
END:VEVENT
BEGIN:VEVENT
DTSTART;TZID=America/New_York:20260615T103000
DTEND;TZID=America/New_York:20260615T113000
DTSTAMP:20260419T110352
CREATED:20250701T165341Z
LAST-MODIFIED:20260113T213413Z
UID:10102814-1781519400-1781523000@events.miamibeachfl.gov
SUMMARY:Calisthenics for Seniors (UN)
DESCRIPTION:Calisthenics is available every Monday and Wednesday free of charge to all Miami Beach seniors at the North Beach Senior Center located at 7251 Collins Avenue. \nRegistration required. For more information\, contact the UNIDAD Senior Center at 305.867.0051.
URL:https://events.miamibeachfl.gov/es/event/calisthenics-un-2/2026-06-15/
CATEGORIES:Senior Programming
END:VEVENT
BEGIN:VEVENT
DTSTART;TZID=America/New_York:20260617T103000
DTEND;TZID=America/New_York:20260617T113000
DTSTAMP:20260419T110352
CREATED:20250701T165341Z
LAST-MODIFIED:20260113T213413Z
UID:10102815-1781692200-1781695800@events.miamibeachfl.gov
SUMMARY:Calisthenics for Seniors (UN)
DESCRIPTION:Calisthenics is available every Monday and Wednesday free of charge to all Miami Beach seniors at the North Beach Senior Center located at 7251 Collins Avenue. \nRegistration required. For more information\, contact the UNIDAD Senior Center at 305.867.0051.
URL:https://events.miamibeachfl.gov/es/event/calisthenics-un-2/2026-06-17/
CATEGORIES:Senior Programming
END:VEVENT
BEGIN:VEVENT
DTSTART;TZID=America/New_York:20260622T103000
DTEND;TZID=America/New_York:20260622T113000
DTSTAMP:20260419T110352
CREATED:20250701T165341Z
LAST-MODIFIED:20260113T213413Z
UID:10102816-1782124200-1782127800@events.miamibeachfl.gov
SUMMARY:Calisthenics for Seniors (UN)
DESCRIPTION:Calisthenics is available every Monday and Wednesday free of charge to all Miami Beach seniors at the North Beach Senior Center located at 7251 Collins Avenue. \nRegistration required. For more information\, contact the UNIDAD Senior Center at 305.867.0051.
URL:https://events.miamibeachfl.gov/es/event/calisthenics-un-2/2026-06-22/
CATEGORIES:Senior Programming
END:VEVENT
BEGIN:VEVENT
DTSTART;TZID=America/New_York:20260624T103000
DTEND;TZID=America/New_York:20260624T113000
DTSTAMP:20260419T110352
CREATED:20250701T165341Z
LAST-MODIFIED:20260113T213413Z
UID:10102817-1782297000-1782300600@events.miamibeachfl.gov
SUMMARY:Calisthenics for Seniors (UN)
DESCRIPTION:Calisthenics is available every Monday and Wednesday free of charge to all Miami Beach seniors at the North Beach Senior Center located at 7251 Collins Avenue. \nRegistration required. For more information\, contact the UNIDAD Senior Center at 305.867.0051.
URL:https://events.miamibeachfl.gov/es/event/calisthenics-un-2/2026-06-24/
CATEGORIES:Senior Programming
END:VEVENT
BEGIN:VEVENT
DTSTART;TZID=America/New_York:20260629T103000
DTEND;TZID=America/New_York:20260629T113000
DTSTAMP:20260419T110352
CREATED:20250701T165341Z
LAST-MODIFIED:20260113T213413Z
UID:10102818-1782729000-1782732600@events.miamibeachfl.gov
SUMMARY:Calisthenics for Seniors (UN)
DESCRIPTION:Calisthenics is available every Monday and Wednesday free of charge to all Miami Beach seniors at the North Beach Senior Center located at 7251 Collins Avenue. \nRegistration required. For more information\, contact the UNIDAD Senior Center at 305.867.0051.
URL:https://events.miamibeachfl.gov/es/event/calisthenics-un-2/2026-06-29/
CATEGORIES:Senior Programming
END:VEVENT
BEGIN:VEVENT
DTSTART;TZID=America/New_York:20260701T103000
DTEND;TZID=America/New_York:20260701T113000
DTSTAMP:20260419T110352
CREATED:20250701T165341Z
LAST-MODIFIED:20260113T213413Z
UID:10102819-1782901800-1782905400@events.miamibeachfl.gov
SUMMARY:Calisthenics for Seniors (UN)
DESCRIPTION:Calisthenics is available every Monday and Wednesday free of charge to all Miami Beach seniors at the North Beach Senior Center located at 7251 Collins Avenue. \nRegistration required. For more information\, contact the UNIDAD Senior Center at 305.867.0051.
URL:https://events.miamibeachfl.gov/es/event/calisthenics-un-2/2026-07-01/
CATEGORIES:Senior Programming
END:VEVENT
BEGIN:VEVENT
DTSTART;TZID=America/New_York:20260706T103000
DTEND;TZID=America/New_York:20260706T113000
DTSTAMP:20260419T110352
CREATED:20250701T165341Z
LAST-MODIFIED:20260113T213413Z
UID:10102820-1783333800-1783337400@events.miamibeachfl.gov
SUMMARY:Calisthenics for Seniors (UN)
DESCRIPTION:Calisthenics is available every Monday and Wednesday free of charge to all Miami Beach seniors at the North Beach Senior Center located at 7251 Collins Avenue. \nRegistration required. For more information\, contact the UNIDAD Senior Center at 305.867.0051.
URL:https://events.miamibeachfl.gov/es/event/calisthenics-un-2/2026-07-06/
CATEGORIES:Senior Programming
END:VEVENT
BEGIN:VEVENT
DTSTART;TZID=America/New_York:20260708T103000
DTEND;TZID=America/New_York:20260708T113000
DTSTAMP:20260419T110352
CREATED:20250701T165341Z
LAST-MODIFIED:20260113T213413Z
UID:10102821-1783506600-1783510200@events.miamibeachfl.gov
SUMMARY:Calisthenics for Seniors (UN)
DESCRIPTION:Calisthenics is available every Monday and Wednesday free of charge to all Miami Beach seniors at the North Beach Senior Center located at 7251 Collins Avenue. \nRegistration required. For more information\, contact the UNIDAD Senior Center at 305.867.0051.
URL:https://events.miamibeachfl.gov/es/event/calisthenics-un-2/2026-07-08/
CATEGORIES:Senior Programming
END:VEVENT
BEGIN:VEVENT
DTSTART;TZID=America/New_York:20260713T103000
DTEND;TZID=America/New_York:20260713T113000
DTSTAMP:20260419T110352
CREATED:20250701T165341Z
LAST-MODIFIED:20260113T213413Z
UID:10102822-1783938600-1783942200@events.miamibeachfl.gov
SUMMARY:Calisthenics for Seniors (UN)
DESCRIPTION:Calisthenics is available every Monday and Wednesday free of charge to all Miami Beach seniors at the North Beach Senior Center located at 7251 Collins Avenue. \nRegistration required. For more information\, contact the UNIDAD Senior Center at 305.867.0051.
URL:https://events.miamibeachfl.gov/es/event/calisthenics-un-2/2026-07-13/
CATEGORIES:Senior Programming
END:VEVENT
BEGIN:VEVENT
DTSTART;TZID=America/New_York:20260715T103000
DTEND;TZID=America/New_York:20260715T113000
DTSTAMP:20260419T110352
CREATED:20250701T165341Z
LAST-MODIFIED:20260113T213413Z
UID:10102823-1784111400-1784115000@events.miamibeachfl.gov
SUMMARY:Calisthenics for Seniors (UN)
DESCRIPTION:Calisthenics is available every Monday and Wednesday free of charge to all Miami Beach seniors at the North Beach Senior Center located at 7251 Collins Avenue. \nRegistration required. For more information\, contact the UNIDAD Senior Center at 305.867.0051.
URL:https://events.miamibeachfl.gov/es/event/calisthenics-un-2/2026-07-15/
CATEGORIES:Senior Programming
END:VEVENT
BEGIN:VEVENT
DTSTART;TZID=America/New_York:20260720T103000
DTEND;TZID=America/New_York:20260720T113000
DTSTAMP:20260419T110352
CREATED:20250701T165341Z
LAST-MODIFIED:20260113T213413Z
UID:10102824-1784543400-1784547000@events.miamibeachfl.gov
SUMMARY:Calisthenics for Seniors (UN)
DESCRIPTION:Calisthenics is available every Monday and Wednesday free of charge to all Miami Beach seniors at the North Beach Senior Center located at 7251 Collins Avenue. \nRegistration required. For more information\, contact the UNIDAD Senior Center at 305.867.0051.
URL:https://events.miamibeachfl.gov/es/event/calisthenics-un-2/2026-07-20/
CATEGORIES:Senior Programming
END:VEVENT
BEGIN:VEVENT
DTSTART;TZID=America/New_York:20260722T103000
DTEND;TZID=America/New_York:20260722T113000
DTSTAMP:20260419T110352
CREATED:20250701T165341Z
LAST-MODIFIED:20260113T213413Z
UID:10102825-1784716200-1784719800@events.miamibeachfl.gov
SUMMARY:Calisthenics for Seniors (UN)
DESCRIPTION:Calisthenics is available every Monday and Wednesday free of charge to all Miami Beach seniors at the North Beach Senior Center located at 7251 Collins Avenue. \nRegistration required. For more information\, contact the UNIDAD Senior Center at 305.867.0051.
URL:https://events.miamibeachfl.gov/es/event/calisthenics-un-2/2026-07-22/
CATEGORIES:Senior Programming
END:VEVENT
BEGIN:VEVENT
DTSTART;TZID=America/New_York:20260727T103000
DTEND;TZID=America/New_York:20260727T113000
DTSTAMP:20260419T110352
CREATED:20250701T165341Z
LAST-MODIFIED:20260113T213413Z
UID:10102826-1785148200-1785151800@events.miamibeachfl.gov
SUMMARY:Calisthenics for Seniors (UN)
DESCRIPTION:Calisthenics is available every Monday and Wednesday free of charge to all Miami Beach seniors at the North Beach Senior Center located at 7251 Collins Avenue. \nRegistration required. For more information\, contact the UNIDAD Senior Center at 305.867.0051.
URL:https://events.miamibeachfl.gov/es/event/calisthenics-un-2/2026-07-27/
CATEGORIES:Senior Programming
END:VEVENT
BEGIN:VEVENT
DTSTART;TZID=America/New_York:20260729T103000
DTEND;TZID=America/New_York:20260729T113000
DTSTAMP:20260419T110352
CREATED:20250701T165341Z
LAST-MODIFIED:20260113T213413Z
UID:10102827-1785321000-1785324600@events.miamibeachfl.gov
SUMMARY:Calisthenics for Seniors (UN)
DESCRIPTION:Calisthenics is available every Monday and Wednesday free of charge to all Miami Beach seniors at the North Beach Senior Center located at 7251 Collins Avenue. \nRegistration required. For more information\, contact the UNIDAD Senior Center at 305.867.0051.
URL:https://events.miamibeachfl.gov/es/event/calisthenics-un-2/2026-07-29/
CATEGORIES:Senior Programming
END:VEVENT
END:VCALENDAR