BEGIN:VCALENDAR
VERSION:2.0
PRODID:-//City of Miami Beach - ECPv6.13.2.1//NONSGML v1.0//EN
CALSCALE:GREGORIAN
METHOD:PUBLISH
X-ORIGINAL-URL:https://events.miamibeachfl.gov/es
X-WR-CALDESC:Eventos para City of Miami Beach
REFRESH-INTERVAL;VALUE=DURATION:PT1H
X-Robots-Tag:noindex
X-PUBLISHED-TTL:PT1H
BEGIN:VTIMEZONE
TZID:America/New_York
BEGIN:DAYLIGHT
TZOFFSETFROM:-0500
TZOFFSETTO:-0400
TZNAME:EDT
DTSTART:20260308T070000
END:DAYLIGHT
BEGIN:STANDARD
TZOFFSETFROM:-0400
TZOFFSETTO:-0500
TZNAME:EST
DTSTART:20261101T060000
END:STANDARD
END:VTIMEZONE
BEGIN:VEVENT
DTSTART;TZID=America/New_York:20260716T080000
DTEND;TZID=America/New_York:20260716T090000
DTSTAMP:20260422T103221
CREATED:20250701T170601Z
LAST-MODIFIED:20260113T215739Z
UID:10103031-1784188800-1784192400@events.miamibeachfl.gov
SUMMARY:Outdoor Yoga for Seniors (UN)
DESCRIPTION:Outdoor yoga is available every Tuesday and Thursday free of charge to all Miami Beach seniors on the second floor terrace of the North Beach Senior Center located at 7251 Collins Avenue. Temporarily relocating to North Shore Park Youth Center (501 72 Street) Dance Room. \nRegistration required. For more information\, contact the UNIDAD Senior Center at 305.867.0051.
URL:https://events.miamibeachfl.gov/es/event/outdoor-yoga-for-seniors-2/2026-07-16/
LOCATION:UNIDAD – 7251 Collins Avenue
CATEGORIES:Senior Programming
END:VEVENT
BEGIN:VEVENT
DTSTART;TZID=America/New_York:20260716T090000
DTEND;TZID=America/New_York:20260716T100000
DTSTAMP:20260422T103221
CREATED:20250922T183704Z
LAST-MODIFIED:20260114T172616Z
UID:10103706-1784192400-1784196000@events.miamibeachfl.gov
SUMMARY:Tai Chi for Seniors (SR)
DESCRIPTION:Tai Chi is available every Tuesday and Thursday free of charge to all Miami Beach seniors at the Scott Rakow Youth Center located at 2700 Sheridan Avenue. \nRegistration required. For more information\, contact Rodericka Moore at 305.673.7767 or roderickamoore@miamibeachfl.gov.
URL:https://events.miamibeachfl.gov/es/event/tai-chi-for-seniors-sr-2-2-2/2026-07-16/
CATEGORIES:Senior Programming
END:VEVENT
BEGIN:VEVENT
DTSTART;TZID=America/New_York:20260716T091500
DTEND;TZID=America/New_York:20260716T101500
DTSTAMP:20260422T103221
CREATED:20250701T171017Z
LAST-MODIFIED:20260113T215839Z
UID:10103135-1784193300-1784196900@events.miamibeachfl.gov
SUMMARY:Chair Yoga for Seniors (UN)
DESCRIPTION:Chair yoga is available every Tuesday and Thursday free of charge to all Miami Beach seniors at the North Beach Senior Center located at 7251 Collins Avenue. \nRegistration required. For more information\, contact the UNIDAD Senior Center at 305.867.0051.
URL:https://events.miamibeachfl.gov/es/event/chair-yoga-for-seniors-2/2026-07-16/
LOCATION:UNIDAD – 7251 Collins Avenue
CATEGORIES:Senior Programming
END:VEVENT
BEGIN:VEVENT
DTSTART;TZID=America/New_York:20260716T101500
DTEND;TZID=America/New_York:20260716T111500
DTSTAMP:20260422T103221
CREATED:20250701T172658Z
LAST-MODIFIED:20260114T171557Z
UID:10103525-1784196900-1784200500@events.miamibeachfl.gov
SUMMARY:Chair Aerobics for Seniors (UN)
DESCRIPTION:Chair Aerobics is available every Thursday free of charge to all Miami Beach seniors at the North Beach Senior Center located at 7251 Collins Avenue. \nRegistration required. For more information\, contact UNIDAD 305.867.0051.
URL:https://events.miamibeachfl.gov/es/event/chair-aerobics-for-seniors-north-beach-senior-center-2/2026-07-16/
LOCATION:UNIDAD – 7251 Collins Avenue
CATEGORIES:Senior Programming
END:VEVENT
BEGIN:VEVENT
DTSTART;TZID=America/New_York:20260716T103000
DTEND;TZID=America/New_York:20260716T113000
DTSTAMP:20260422T103221
CREATED:20251124T181529Z
LAST-MODIFIED:20251124T182231Z
UID:10100870-1784197800-1784201400@events.miamibeachfl.gov
SUMMARY:Pole Walking for Seniors (UN)
DESCRIPTION:Pole Walking is available every Tuesday and Thursday free of charge to all Miami Beach seniors at the North Beach Senior Center located at 7251 Collins Avenue. \nRegistration required. For more information\, contact the UNIDAD Senior Center at 305.867.0051.
URL:https://events.miamibeachfl.gov/es/event/pole-walking-for-seniors-un-3/2026-07-16/
LOCATION:UNIDAD – 7251 Collins Avenue
CATEGORIES:Senior Programming
END:VEVENT
BEGIN:VEVENT
DTSTART;TZID=America/New_York:20260716T133000
DTEND;TZID=America/New_York:20260716T150000
DTSTAMP:20260422T103222
CREATED:20250701T172907Z
LAST-MODIFIED:20260114T171750Z
UID:10103576-1784208600-1784214000@events.miamibeachfl.gov
SUMMARY:Book Club for Seniors (UN)
DESCRIPTION:Book Club is available every Thursday free of charge to all Miami Beach seniors at the North Beach Senior Center located at 7251 Collins Avenue. \nRegistration required. For more information\, contact the UNIDAD Senior Center at 305.867.0051.
URL:https://events.miamibeachfl.gov/es/event/book-club-2/2026-07-16/
CATEGORIES:Senior Programming
END:VEVENT
BEGIN:VEVENT
DTSTART;TZID=America/New_York:20260716T140000
DTEND;TZID=America/New_York:20260716T150000
DTSTAMP:20260422T103222
CREATED:20260213T183946Z
LAST-MODIFIED:20260213T183948Z
UID:10101661-1784210400-1784214000@events.miamibeachfl.gov
SUMMARY:Floral Design Workshops
DESCRIPTION:Miami Beach Seniors 55+ join us for a free floral workshop where you can make a beautiful bouquet. Space is limited and registration is required. Visit register.miamibeachparks.com or contact 305.861.3616. Registration begins one week before workshop date. \nOctober 11 – Flamingo Park – 1 PM\nNovember 13 – South Shore Community Center – 2 PM\nDecember 14 – Scott Rakow Youth Center – 1 PM\nJanuary 10 – North Shore Park Youth Center – 1 PM\nFebruary 21 – Flamingo Park – 1 PM\nMarch 19 – UNIDAD – 1:30 PM\nApril 12 – Scott Rakow Youth Center – 1 PM\nMay 16 – North Shore Park Youth Center – 1 PM\nJune 27 – Flamingo – 1 PM\nJuly 16 – UNIDAD – 2 PM\nAugust 16 – Scott Rakow Youth Center – 1 PM\nSeptember 12 – North Shore Park Youth Center – 1 PM
URL:https://events.miamibeachfl.gov/es/event/floral-design-workshops-2-2/2026-07-16/
LOCATION:Various locations
CATEGORIES:Senior Programming
END:VEVENT
END:VCALENDAR