BEGIN:VCALENDAR
VERSION:2.0
PRODID:-//City of Miami Beach - ECPv6.13.2.1//NONSGML v1.0//EN
CALSCALE:GREGORIAN
METHOD:PUBLISH
X-WR-CALNAME:City of Miami Beach
X-ORIGINAL-URL:https://events.miamibeachfl.gov/de
X-WR-CALDESC:Veranstaltungen für City of Miami Beach
REFRESH-INTERVAL;VALUE=DURATION:PT1H
X-Robots-Tag:noindex
X-PUBLISHED-TTL:PT1H
BEGIN:VTIMEZONE
TZID:America/New_York
BEGIN:DAYLIGHT
TZOFFSETFROM:-0500
TZOFFSETTO:-0400
TZNAME:EDT
DTSTART:20260308T070000
END:DAYLIGHT
BEGIN:STANDARD
TZOFFSETFROM:-0400
TZOFFSETTO:-0500
TZNAME:EST
DTSTART:20261101T060000
END:STANDARD
END:VTIMEZONE
BEGIN:VEVENT
DTSTART;TZID=America/New_York:20260423T080000
DTEND;TZID=America/New_York:20260423T090000
DTSTAMP:20260423T151432
CREATED:20250701T170601Z
LAST-MODIFIED:20260113T215739Z
UID:10103007-1776931200-1776934800@events.miamibeachfl.gov
SUMMARY:Outdoor Yoga for Seniors (UN)
DESCRIPTION:Outdoor yoga is available every Tuesday and Thursday free of charge to all Miami Beach seniors on the second floor terrace of the North Beach Senior Center located at 7251 Collins Avenue. Temporarily relocating to North Shore Park Youth Center (501 72 Street) Dance Room. \nRegistration required. For more information\, contact the UNIDAD Senior Center at 305.867.0051.
URL:https://events.miamibeachfl.gov/de/event/outdoor-yoga-for-seniors-2/2026-04-23/
LOCATION:UNIDAD – 7251 Collins Avenue
CATEGORIES:Senior Programming
END:VEVENT
BEGIN:VEVENT
DTSTART;TZID=America/New_York:20260423T083000
DTEND;TZID=America/New_York:20260423T123000
DTSTAMP:20260423T151432
CREATED:20260420T172226Z
LAST-MODIFIED:20260420T172226Z
UID:10104499-1776933000-1776947400@events.miamibeachfl.gov
SUMMARY:EVALUATION COMMITTEE MEETING REGARDING RFP 2026-061-WG FINANCIAL REPORTING SOFTWARE
DESCRIPTION:Please be advised that an Evaluation Committee will convene on\, April 23\, 2026\, to score and rank qualifications for Financial Reporting Software.  This is a public meeting\, except for portions of the meeting where each individual firm will conduct their presentation. \nThis Evaluation Committee meeting is being conducted in a completely virtual process.  All participating firms\, evaluation committee members and members of the public will be provided the same Microsoft Teams link/phone number with access code for the sections of the meeting that are “Open to the Public”. Those being the Introductions\, Background and Cone of Silence section and after vendor presentations\, the Deliberations and Ranking section. \n  \nOpen to the public 8:30AM – 8:45AM Introductions\, Background and Cone of Silence section \n  \n________________________________________________________________________________ \nMicrosoft Teams meeting \nJoin: https://teams.microsoft.com/meet/212152812461696?p=ZrUqsjH5ox5QM7xAjW \nMeeting ID: 212 152 812 461 696 \nPasscode: 5nq7W9DB \nNeed help? | System reference \nDial in by phone \n+1 786-636-1480\,\,488704784# United States\, Miami \nFind a local number \nPhone conference ID: 488 704 784# \nJoin on a video conferencing device \nTenant key: cityofmiamibeach@m.webex.com \nVideo ID: 117 939 435 7 \nMore info \nFor organizers: Meeting options | Reset dial-in PIN \n________________________________________________________________________________ \n  \nOpen to the public 10:50 AM – 12:30 PM Deliberations and Ranking Section \n  \n________________________________________________________________________________ \nMicrosoft Teams meeting \nJoin: https://teams.microsoft.com/meet/297876676369332?p=pL28ccDoqW9J5eLfbg \nMeeting ID: 297 876 676 369 332 \nPasscode: pS9pH9Wz \nNeed help? | System reference \nDial in by phone \n+1 786-636-1480\,\,286432529# United States\, Miami \nFind a local number \nPhone conference ID: 286 432 529# \nJoin on a video conferencing device \nTenant key: cityofmiamibeach@m.webex.com \nVideo ID: 114 930 695 9 \nMore info \nFor organizers: Meeting options | Reset dial-in PIN \n________________________________________________________________________________
URL:https://events.miamibeachfl.gov/de/event/evaluation-committee-meeting-regarding-rfp-2026-061-wg-financial-reporting-software/
CATEGORIES:Procurement
END:VEVENT
BEGIN:VEVENT
DTSTART;TZID=America/New_York:20260423T090000
DTEND;TZID=America/New_York:20260423T100000
DTSTAMP:20260423T151432
CREATED:20250922T183353Z
LAST-MODIFIED:20260114T174204Z
UID:10104025-1776934800-1776938400@events.miamibeachfl.gov
SUMMARY:Chair Aerobics for Seniors (FL)
DESCRIPTION:Chair Aerobics is available every Thursday free of charge to all Miami Beach seniors at Flamingo Park located at 999 11 Street. \nRegistration required. For more information\, contact Rodericka Moore at roderickamoore@miamibeachfl.gov.
URL:https://events.miamibeachfl.gov/de/event/chair-aerobics-for-seniors-fl-2-2/2026-04-23/
LOCATION:Flamingo Park – 999 11 Street
CATEGORIES:Senior Programming
END:VEVENT
BEGIN:VEVENT
DTSTART;TZID=America/New_York:20260423T090000
DTEND;TZID=America/New_York:20260423T100000
DTSTAMP:20260423T151432
CREATED:20250922T183704Z
LAST-MODIFIED:20260114T172616Z
UID:10103682-1776934800-1776938400@events.miamibeachfl.gov
SUMMARY:Tai Chi for Seniors (SR)
DESCRIPTION:Tai Chi is available every Tuesday and Thursday free of charge to all Miami Beach seniors at the Scott Rakow Youth Center located at 2700 Sheridan Avenue. \nRegistration required. For more information\, contact Rodericka Moore at 305.673.7767 or roderickamoore@miamibeachfl.gov.
URL:https://events.miamibeachfl.gov/de/event/tai-chi-for-seniors-sr-2-2-2/2026-04-23/
CATEGORIES:Senior Programming
END:VEVENT
BEGIN:VEVENT
DTSTART;TZID=America/New_York:20260423T091500
DTEND;TZID=America/New_York:20260423T101500
DTSTAMP:20260423T151432
CREATED:20250701T171017Z
LAST-MODIFIED:20260113T215839Z
UID:10103111-1776935700-1776939300@events.miamibeachfl.gov
SUMMARY:Chair Yoga for Seniors (UN)
DESCRIPTION:Chair yoga is available every Tuesday and Thursday free of charge to all Miami Beach seniors at the North Beach Senior Center located at 7251 Collins Avenue. \nRegistration required. For more information\, contact the UNIDAD Senior Center at 305.867.0051.
URL:https://events.miamibeachfl.gov/de/event/chair-yoga-for-seniors-2/2026-04-23/
LOCATION:UNIDAD – 7251 Collins Avenue
CATEGORIES:Senior Programming
END:VEVENT
BEGIN:VEVENT
DTSTART;TZID=America/New_York:20260423T100000
DTEND;TZID=America/New_York:20260423T140000
DTSTAMP:20260423T151432
CREATED:20260320T194049Z
LAST-MODIFIED:20260320T194517Z
UID:10104383-1776938400-1776952800@events.miamibeachfl.gov
SUMMARY:Connect One-on-One with State Condominium Representatives
DESCRIPTION:The City of Miami Beach is hosting the Florida Condominium Ombudsman and representatives from the Florida Department of Business and Professional Regulation (DBPR)\, Division of Condominiums. This is an opportunity to speak directly with State officials about condominium questions or concerns\, either virtually or in person. \nExamples of areas where they can assist include: \n\nOfficial Records: Help with accessing association records\nElections and Voting: Guidance on election procedures\, recalls\, and voting disputes\nFinancial and Meeting Issues: Questions about meeting notices\, voting requirements\, and board procedures\nDispute Resolution: Information about mediation and arbitration options available through the State\n\nRequest a virtual appointment: tinyurl.com/condoappt \nIn-person appointments are available twice per month. \nApril in-person dates: \nThursday\, April 9 & Thursday\, April 23 \n10 AM – 2 PM \nMiami Beach City Hall \n1700 Convention Center Drive \nAppointments are required. Please contact BiancaGuevara@miamibeachfl.gov to make an appointment. Meeting location will be confirmed with appointment.
URL:https://events.miamibeachfl.gov/de/event/connect-one-on-one-with-state-condominium-representatives/2026-04-23/
LOCATION:Miami Beach City Hall\, 1700 Convention Center Drive\, Miami Beach\, Florida\, 33139
CATEGORIES:Building,City Government,Featured Events
ATTACH;FMTTYPE=image/jpeg:https://events.miamibeachfl.gov/wp-content/uploads/2024/09/Featured-Events-Building-400.jpg
GEO:25.7928055;-80.1353576
X-APPLE-STRUCTURED-LOCATION;VALUE=URI;X-ADDRESS=Miami Beach City Hall 1700 Convention Center Drive Miami Beach Florida 33139;X-APPLE-RADIUS=500;X-TITLE=1700 Convention Center Drive:geo:-80.1353576,25.7928055
END:VEVENT
BEGIN:VEVENT
DTSTART;TZID=America/New_York:20260423T101500
DTEND;TZID=America/New_York:20260423T111500
DTSTAMP:20260423T151432
CREATED:20250701T172658Z
LAST-MODIFIED:20260114T171557Z
UID:10103513-1776939300-1776942900@events.miamibeachfl.gov
SUMMARY:Chair Aerobics for Seniors (UN)
DESCRIPTION:Chair Aerobics is available every Thursday free of charge to all Miami Beach seniors at the North Beach Senior Center located at 7251 Collins Avenue. \nRegistration required. For more information\, contact UNIDAD 305.867.0051.
URL:https://events.miamibeachfl.gov/de/event/chair-aerobics-for-seniors-north-beach-senior-center-2/2026-04-23/
LOCATION:UNIDAD – 7251 Collins Avenue
CATEGORIES:Senior Programming
END:VEVENT
BEGIN:VEVENT
DTSTART;TZID=America/New_York:20260423T103000
DTEND;TZID=America/New_York:20260423T113000
DTSTAMP:20260423T151432
CREATED:20251124T181529Z
LAST-MODIFIED:20251124T182231Z
UID:10100846-1776940200-1776943800@events.miamibeachfl.gov
SUMMARY:Pole Walking for Seniors (UN)
DESCRIPTION:Pole Walking is available every Tuesday and Thursday free of charge to all Miami Beach seniors at the North Beach Senior Center located at 7251 Collins Avenue. \nRegistration required. For more information\, contact the UNIDAD Senior Center at 305.867.0051.
URL:https://events.miamibeachfl.gov/de/event/pole-walking-for-seniors-un-3/2026-04-23/
LOCATION:UNIDAD – 7251 Collins Avenue
CATEGORIES:Senior Programming
END:VEVENT
BEGIN:VEVENT
DTSTART;TZID=America/New_York:20260423T110000
DTEND;TZID=America/New_York:20260423T130000
DTSTAMP:20260423T151432
CREATED:20260410T145356Z
LAST-MODIFIED:20260410T150412Z
UID:10104466-1776942000-1776949200@events.miamibeachfl.gov
SUMMARY:Flamingo Park Baseball Field Dedication Honoring Skip Bertman
DESCRIPTION:Flamingo Park Baseball Field  \n1430 Michigan Avenue
URL:https://events.miamibeachfl.gov/de/event/flamingo-park-baseball-field-dedication-honoring-skip-bertman/
CATEGORIES:City Government
END:VEVENT
BEGIN:VEVENT
DTSTART;TZID=America/New_York:20260423T133000
DTEND;TZID=America/New_York:20260423T150000
DTSTAMP:20260423T151432
CREATED:20250701T172907Z
LAST-MODIFIED:20260114T171750Z
UID:10103564-1776951000-1776956400@events.miamibeachfl.gov
SUMMARY:Book Club for Seniors (UN)
DESCRIPTION:Book Club is available every Thursday free of charge to all Miami Beach seniors at the North Beach Senior Center located at 7251 Collins Avenue. \nRegistration required. For more information\, contact the UNIDAD Senior Center at 305.867.0051.
URL:https://events.miamibeachfl.gov/de/event/book-club-2/2026-04-23/
CATEGORIES:Senior Programming
END:VEVENT
BEGIN:VEVENT
DTSTART;TZID=America/New_York:20260423T150000
DTEND;TZID=America/New_York:20260423T170000
DTSTAMP:20260423T151432
CREATED:20260212T140524Z
LAST-MODIFIED:20260403T194548Z
UID:10104175-1776956400-1776963600@events.miamibeachfl.gov
SUMMARY:Sustainability Committee Meeting
DESCRIPTION:The Miami Beach Resident Sustainability Committee will hold a virtual public meeting on Thursday\, April 23\, at 3 p.m. The committee provides recommendations on community-wide sustainability. The committee encourages environmental awareness among residents\, employees\, and business partners to help accomplish the goal of keeping Miami Beach environmentally and sustainably conscious.\n\nDate: April 23\nTime: 3-5 PM\nZoom Meeting: https://us06web.zoom.us/j/87690959005 \nOr One tap mobile: +13052241968\, 87213876691# US +19292056099\, 87213876691# US (New York)\nWebinar ID: 876 9095 9005
URL:https://events.miamibeachfl.gov/de/event/sustainability-committee-meeting-3/
CATEGORIES:Environment
END:VEVENT
BEGIN:VEVENT
DTSTART;TZID=America/New_York:20260423T170000
DTEND;TZID=America/New_York:20260423T190000
DTSTAMP:20260423T151432
CREATED:20260410T145706Z
LAST-MODIFIED:20260410T145723Z
UID:10104468-1776963600-1776970800@events.miamibeachfl.gov
SUMMARY:Mayor's 41st Street Committee
DESCRIPTION:Hybrid Meeting \nhttps://us06web.zoom.us/j/85702020601?pwd=KsC6BT4wQ0SmSBTCgRVc14WeJYWUeB.1 \nWebinar ID: 85702020601# \nPasscode: 442556  \nFirst Horizon Bank \n400 Arthur Godfrey Rd Ste 102
URL:https://events.miamibeachfl.gov/de/event/mayors-41st-street-committee/
CATEGORIES:City Government
END:VEVENT
BEGIN:VEVENT
DTSTART;TZID=America/New_York:20260423T173000
DTEND;TZID=America/New_York:20260423T193000
DTSTAMP:20260423T151432
CREATED:20260410T145838Z
LAST-MODIFIED:20260410T145847Z
UID:10104469-1776965400-1776972600@events.miamibeachfl.gov
SUMMARY:Parks & Recreational Facilities Advisory Board
DESCRIPTION:Miami Beach Golf Club  \n2301 Alton Road
URL:https://events.miamibeachfl.gov/de/event/parks-recreational-facilities-advisory-board-3/
CATEGORIES:City Government
END:VEVENT
BEGIN:VEVENT
DTSTART;TZID=America/New_York:20260423T183000
DTEND;TZID=America/New_York:20260423T220000
DTSTAMP:20260423T151432
CREATED:20260415T135400Z
LAST-MODIFIED:20260415T135400Z
UID:10104486-1776969000-1776981600@events.miamibeachfl.gov
SUMMARY:OUTshine LGBTQ+ Film Festival: Spring Edition April 23 - May 10\, 2026
DESCRIPTION:The OUTshine Film Festival returns this month\, showcasing 63 brand-new LGBTQ+ films! 🎥🌴 11 days of captivating films\, vibrant parties\, engaging with filmmakers\, and celebrating with your community from April 23 to May 3 in Miami and Fort Lauderdale. 🏳️‍🌈 The festival continues with OUTshine At-Home\, May 4-10 throughout Florida. Explore the exciting film lineup and get tickets at OUTshineFilm.com 🍿 \nOUTSHINE’S OPENING NIGHT FILM & AFTER PARTY\n\nTHURSDAY\, APRIL 23 \nMiami Beach Botanical Garden \nPRE-FILM SOIREE: 6:30 pm \nFILM: The Dinner at 7:30 pm \nAfter Party: Beats by DJ Zehno\, Performances by Liner Baddie\, Food & Drinks \nLINK: https://outshinespring2026.eventive.org/schedule/69c6ab0baf075973b4f8d88f \nEnjoy a night under the stars at Miami Beach Botanical Garden as OUTshine Film Festival kicks off it’s spring edition with the dark comedy film\, The Dinner. Followed by an After Party with Music by DJ Zehno and performances by Liner Baddie. Plus yummy spanish food & an open bar. $75 tickets. \n\n\nLINK: https://outshinefilm.com/
URL:https://events.miamibeachfl.gov/de/event/outshine-lgbtq-film-festival-spring-edition-april-23-may-10-2026/
LOCATION:Miami Beach Botanical Garden\, 2000 Convention Center Drive\, Miami Beach\, 33139\, United States
CATEGORIES:Arts & Culture
ATTACH;FMTTYPE=image/jpeg:https://events.miamibeachfl.gov/wp-content/uploads/2026/04/2026-Spring-Festival-Banners_1500x1500-SQ1.jpg
GEO:25.7956364;-80.1354799
X-APPLE-STRUCTURED-LOCATION;VALUE=URI;X-ADDRESS=Miami Beach Botanical Garden 2000 Convention Center Drive Miami Beach 33139 United States;X-APPLE-RADIUS=500;X-TITLE=2000 Convention Center Drive:geo:-80.1354799,25.7956364
END:VEVENT
END:VCALENDAR